BEGIN:VCALENDAR
VERSION:2.0
PRODID:-//City of North Little Rock - ECPv6.15.17.1//NONSGML v1.0//EN
CALSCALE:GREGORIAN
METHOD:PUBLISH
X-ORIGINAL-URL:https://nlr.ar.gov
X-WR-CALDESC:Events for City of North Little Rock
REFRESH-INTERVAL;VALUE=DURATION:PT1H
X-Robots-Tag:noindex
X-PUBLISHED-TTL:PT1H
BEGIN:VTIMEZONE
TZID:America/Chicago
BEGIN:DAYLIGHT
TZOFFSETFROM:-0600
TZOFFSETTO:-0500
TZNAME:CDT
DTSTART:20240310T080000
END:DAYLIGHT
BEGIN:STANDARD
TZOFFSETFROM:-0500
TZOFFSETTO:-0600
TZNAME:CST
DTSTART:20241103T070000
END:STANDARD
BEGIN:DAYLIGHT
TZOFFSETFROM:-0600
TZOFFSETTO:-0500
TZNAME:CDT
DTSTART:20250309T080000
END:DAYLIGHT
BEGIN:STANDARD
TZOFFSETFROM:-0500
TZOFFSETTO:-0600
TZNAME:CST
DTSTART:20251102T070000
END:STANDARD
BEGIN:DAYLIGHT
TZOFFSETFROM:-0600
TZOFFSETTO:-0500
TZNAME:CDT
DTSTART:20260308T080000
END:DAYLIGHT
BEGIN:STANDARD
TZOFFSETFROM:-0500
TZOFFSETTO:-0600
TZNAME:CST
DTSTART:20261101T070000
END:STANDARD
END:VTIMEZONE
BEGIN:VEVENT
DTSTART;TZID=America/Chicago:20250414T180000
DTEND;TZID=America/Chicago:20250414T190000
DTSTAMP:20260422T222818
CREATED:20230912T142054Z
LAST-MODIFIED:20230912T142055Z
UID:10000243-1744653600-1744657200@nlr.ar.gov
SUMMARY:City Council Meeting
DESCRIPTION:The North Little Rock City Council meets the 2nd and 4th Monday at 6:00 pm in the City Hall Council Chambers. \n\n\n\nThe agenda is posted by Wednesday prior to the upcoming meeting. \n\n\n\n\nUpcoming Council Agenda\n\n\n\nCouncil Archives\n\n\n\n\nYou can watch our meetings on City Comcast Channel 11\, AT&T U-Verse Channel 99\, or the North Little Rock Government Facebook page. \n\n\n\nFind out more about your North Little Rock City Council Members here.
URL:https://nlr.ar.gov/event/city-council-meeting-4/2025-04-14/
LOCATION:NLR City Hall Council Chambers\, 300 Main Street\, North Little Rock\, Arkansas\, 72114\, United States
CATEGORIES:City Council
END:VEVENT
BEGIN:VEVENT
DTSTART;TZID=America/Chicago:20250415T110000
DTEND;TZID=America/Chicago:20250415T120000
DTSTAMP:20260422T222818
CREATED:20250403T140837Z
LAST-MODIFIED:20250403T141418Z
UID:10000449-1744714800-1744718400@nlr.ar.gov
SUMMARY:Topping Out and Beam Signing
DESCRIPTION:Please join us in signing the last beam placed in the new Central Fire Station at the corner of 13th and Main Streets in North Little Rock.
URL:https://nlr.ar.gov/event/topping-out-and-beam-signing/
LOCATION:Arkansas
CATEGORIES:CIty Event,Fire Department
ATTACH;FMTTYPE=image/jpeg:https://nlr.ar.gov/wp-content/uploads/2025/04/DJI_17_DJI_0209-jpg.webp
END:VEVENT
BEGIN:VEVENT
DTSTART;TZID=America/Chicago:20250419T090000
DTEND;TZID=America/Chicago:20250419T120000
DTSTAMP:20260422T222818
CREATED:20250406T231316Z
LAST-MODIFIED:20250406T232121Z
UID:10000454-1745053200-1745064000@nlr.ar.gov
SUMMARY:Easter Egg Hunt at Burns Park
DESCRIPTION:Burns Park – April 19 at 9 am – Soccer Complex (1 Soccer Ave) – 501-580-1407
URL:https://nlr.ar.gov/event/easter-egg-hunt-at-burns-park/
LOCATION:Burns Park Soccer Complex\, 1 Soccer Avenue\, North Little Rock\, Arkansas\, 72118\, United States
CATEGORIES:CIty Event,Parks and Recreation
ATTACH;FMTTYPE=image/png:https://nlr.ar.gov/wp-content/uploads/2025/04/Easter-Flyer-Burns-Park-2025.png
END:VEVENT
BEGIN:VEVENT
DTSTART;TZID=America/Chicago:20250419T100000
DTEND;TZID=America/Chicago:20250419T120000
DTSTAMP:20260422T222818
CREATED:20250406T231003Z
LAST-MODIFIED:20250406T231007Z
UID:10000452-1745056800-1745064000@nlr.ar.gov
SUMMARY:Easter Egg Hunt at Rose City CC
DESCRIPTION:Rose City – April 19 at 10 am – 400 Rose Lane – 501-945-8036
URL:https://nlr.ar.gov/event/easter-egg-hunt-at-rose-city-cc/
LOCATION:Rose City Community Center\, 400 Rose Lane\, North Little Rock\, AR\, 72117\, United States
CATEGORIES:CIty Event,Parks and Recreation
ATTACH;FMTTYPE=image/jpeg:https://nlr.ar.gov/wp-content/uploads/2025/04/RCCC-Easter-Egg-Hunt-2025-jpg.webp
END:VEVENT
BEGIN:VEVENT
DTSTART;TZID=America/Chicago:20250419T100000
DTEND;TZID=America/Chicago:20250419T120000
DTSTAMP:20260422T222818
CREATED:20250406T231143Z
LAST-MODIFIED:20250406T232050Z
UID:10000453-1745056800-1745064000@nlr.ar.gov
SUMMARY:Easter Egg Hunt at North Heights CC
DESCRIPTION:North Heights – April 19 at 10am – 701 W 47th Street – 501-791-8576
URL:https://nlr.ar.gov/event/easter-egg-hunt-at-north-heights-cc/
LOCATION:North Heights Community Center\, 4801 Allen Street\, North Little Rock\, Arkansas\, 72118\, United States
CATEGORIES:CIty Event,Parks and Recreation
ATTACH;FMTTYPE=image/jpeg:https://nlr.ar.gov/wp-content/uploads/2025/04/Easter-Egg-Hunt-2025-scaled.webp
END:VEVENT
BEGIN:VEVENT
DTSTART;TZID=America/Chicago:20250419T110000
DTEND;TZID=America/Chicago:20250419T130000
DTSTAMP:20260422T222818
CREATED:20250406T230627Z
LAST-MODIFIED:20250406T230630Z
UID:10000451-1745060400-1745067600@nlr.ar.gov
SUMMARY:Easter Egg Hunt at Glenview CC
DESCRIPTION:Glenview – April 19 at 11 am – 4800 E 19th Street – 501-945-2921
URL:https://nlr.ar.gov/event/easter-egg-hunt-at-glenview-cc/
LOCATION:Glenview Community Center\, 4800 E 19th Street\, North Little Rock\, Arkansas\, 72117\, United States
CATEGORIES:CIty Event,Parks and Recreation
ATTACH;FMTTYPE=image/jpeg:https://nlr.ar.gov/wp-content/uploads/2025/04/Easter2025-scaled.webp
END:VEVENT
END:VCALENDAR