BEGIN:VCALENDAR
VERSION:2.0
PRODID:-//City of North Little Rock - ECPv6.15.17.1//NONSGML v1.0//EN
CALSCALE:GREGORIAN
METHOD:PUBLISH
X-WR-CALNAME:City of North Little Rock
X-ORIGINAL-URL:https://nlr.ar.gov
X-WR-CALDESC:Events for City of North Little Rock
REFRESH-INTERVAL;VALUE=DURATION:PT1H
X-Robots-Tag:noindex
X-PUBLISHED-TTL:PT1H
BEGIN:VTIMEZONE
TZID:America/Chicago
BEGIN:DAYLIGHT
TZOFFSETFROM:-0600
TZOFFSETTO:-0500
TZNAME:CDT
DTSTART:20240310T080000
END:DAYLIGHT
BEGIN:STANDARD
TZOFFSETFROM:-0500
TZOFFSETTO:-0600
TZNAME:CST
DTSTART:20241103T070000
END:STANDARD
BEGIN:DAYLIGHT
TZOFFSETFROM:-0600
TZOFFSETTO:-0500
TZNAME:CDT
DTSTART:20250309T080000
END:DAYLIGHT
BEGIN:STANDARD
TZOFFSETFROM:-0500
TZOFFSETTO:-0600
TZNAME:CST
DTSTART:20251102T070000
END:STANDARD
BEGIN:DAYLIGHT
TZOFFSETFROM:-0600
TZOFFSETTO:-0500
TZNAME:CDT
DTSTART:20260308T080000
END:DAYLIGHT
BEGIN:STANDARD
TZOFFSETFROM:-0500
TZOFFSETTO:-0600
TZNAME:CST
DTSTART:20261101T070000
END:STANDARD
END:VTIMEZONE
BEGIN:VEVENT
DTSTART;TZID=America/Chicago:20250127T180000
DTEND;TZID=America/Chicago:20250127T190000
DTSTAMP:20260425T171707
CREATED:20230912T141353Z
LAST-MODIFIED:20250327T133309Z
UID:10000191-1738000800-1738004400@nlr.ar.gov
SUMMARY:City Council Meeting
DESCRIPTION:The North Little Rock City Council meets the 2nd and 4th Monday at 6:00 pm in the City Hall Council Chambers. \n\n\n\nThe agenda is posted by Wednesday prior to the upcoming meeting. \n\n\n\n\nUpcoming Council Agenda\n\n\n\nCouncil Archives\n\n\n\n\nYou can watch our meetings on City Comcast Channel 11\, AT&T U-Verse Channel 99\, or the North Little Rock Government Facebook page. \n\n\n\nFind out more about your North Little Rock City Council Members here.
URL:https://nlr.ar.gov/event/city-council-meeting-3/2025-01-27/
LOCATION:NLR City Hall Council Chambers\, 300 Main Street\, North Little Rock\, Arkansas\, 72114\, United States
CATEGORIES:City Council,CIty Event
END:VEVENT
BEGIN:VEVENT
DTSTART;TZID=America/Chicago:20250130T133000
DTEND;TZID=America/Chicago:20250130T140000
DTSTAMP:20260425T171707
CREATED:20250129T173657Z
LAST-MODIFIED:20250129T173659Z
UID:10000444-1738243800-1738245600@nlr.ar.gov
SUMMARY:NLR Mayor to Sign Police Contracts
DESCRIPTION:NLR Mayor to Sign Police Contracts \n\n\n\nNorth Little Rock\, Arkansas (Tuesday\, January 28\, 2025)…Mayor Hartwick will sign a new\, two-year contract this Thursday\, January 30\, 2025\, at 1:30 pm for the North Little Rock Police Department Supervisors Association and the North Little Rock Fraternal Order of Police\, Lodge #5. The signing will occur in the Community Room at the North Little Rock Justice Center located at #1 Justice Center Drive in North Little Rock. Both contracts are negotiated every two years\, and this signing renews the City’s unwavering commitment to public safety with a continued focus on recruiting and retention in the North Little Rock Police Department. Detective Michael Gibbons\, President of the North Little Rock Fraternal Order of Police\, and Captain Brian Dedrick\, President of the North Little Rock Police Department Supervisors Association\, together shared\, “We are grateful for the long-standing support the Mayor\, the North Little Rock City Council and the citizens of  North Little Rock have shown our officers. It is the partnership that makes our city so great! There is much heart and much love in North Little Rock. We are a family.”  “We are committed and focused on continuing to recruit and retain the best police officers in the state of Arkansas. Our salaries and benefits are competitive\, and we want to provide the best for everyone in North Little Rock\,” said Mayor Hartwick. Chief Patrick Thessing said\, “These contracts will encourage our tenured officers to continue serving our city and will make our vacant positions very attractive to those who wish to start their career in law enforcement at the North Little Rock Police Department.”
URL:https://nlr.ar.gov/event/nlr-mayor-to-sign-police-contracts/
LOCATION:Arkansas
END:VEVENT
END:VCALENDAR