BEGIN:VCALENDAR
VERSION:2.0
PRODID:-//City of North Little Rock - ECPv6.15.17.1//NONSGML v1.0//EN
CALSCALE:GREGORIAN
METHOD:PUBLISH
X-WR-CALNAME:City of North Little Rock
X-ORIGINAL-URL:https://nlr.ar.gov
X-WR-CALDESC:Events for City of North Little Rock
REFRESH-INTERVAL;VALUE=DURATION:PT1H
X-Robots-Tag:noindex
X-PUBLISHED-TTL:PT1H
BEGIN:VTIMEZONE
TZID:America/Chicago
BEGIN:DAYLIGHT
TZOFFSETFROM:-0600
TZOFFSETTO:-0500
TZNAME:CDT
DTSTART:20230312T080000
END:DAYLIGHT
BEGIN:STANDARD
TZOFFSETFROM:-0500
TZOFFSETTO:-0600
TZNAME:CST
DTSTART:20231105T070000
END:STANDARD
BEGIN:DAYLIGHT
TZOFFSETFROM:-0600
TZOFFSETTO:-0500
TZNAME:CDT
DTSTART:20240310T080000
END:DAYLIGHT
BEGIN:STANDARD
TZOFFSETFROM:-0500
TZOFFSETTO:-0600
TZNAME:CST
DTSTART:20241103T070000
END:STANDARD
BEGIN:DAYLIGHT
TZOFFSETFROM:-0600
TZOFFSETTO:-0500
TZNAME:CDT
DTSTART:20250309T080000
END:DAYLIGHT
BEGIN:STANDARD
TZOFFSETFROM:-0500
TZOFFSETTO:-0600
TZNAME:CST
DTSTART:20251102T070000
END:STANDARD
END:VTIMEZONE
BEGIN:VEVENT
DTSTART;TZID=America/Chicago:20241204T180000
DTEND;TZID=America/Chicago:20241204T190000
DTSTAMP:20260424T022847
CREATED:20241007T182003Z
LAST-MODIFIED:20241112T213814Z
UID:10000415-1733335200-1733338800@nlr.ar.gov
SUMMARY:Mid-City Christmas Tree Lighting
DESCRIPTION:
URL:https://nlr.ar.gov/event/mid-city-christmas-tree-lighting/
LOCATION:Arkansas
CATEGORIES:CIty Event,Holiday 2024
END:VEVENT
BEGIN:VEVENT
DTSTART;TZID=America/Chicago:20241207T115800
DTEND;TZID=America/Chicago:20241207T123000
DTSTAMP:20260424T022848
CREATED:20241118T180835Z
LAST-MODIFIED:20241205T170018Z
UID:10000427-1733572680-1733574600@nlr.ar.gov
SUMMARY:Pearl Harbor Remembrance Ceremony
DESCRIPTION:The Arkansas Inland Maritime Museum invites you to our Pearl Harbor Ceremony on December 7\, 2024. In the event of inclement weather\, the ceremony will be moved to The River House just east of our parking lot inside the sea-wall. The event is free and open to the public. Remarks from CDR Sterling D. “Rooster Claypoole\, USNR and NLR Mayor Terry C. Hartwick. \n\n\n\n\n\nOn National Pearl Harbor Remembrance Day\, we honor the memories of the 2\,403 service members and civilians whose lives were cut short on that tragic December morning. We reflect on the resilience of America’s Armed Forces\, who withstood the attack and built the most capable fighting force the world has ever known. In the wake of tragedy\, these brave women and men — the Greatest Generation — answered the call to defend freedom\, justice\, and democracy across the Pacific\, throughout Europe\, and around the globe. Today\, we carry forward their spirit of unity and their enduring resolve to protect the United States against those who seek to do us harm. \n\n\n\nThis commemoration is also a solemn reminder that our country is capable of achieving great triumphs coming out of dark moments. From the death and destruction at Pearl Harbor came victory over the forces of fascism. Fierce battles with the Axis powers gave way to diplomatic partnerships with strong allies. And from the darkness of World War II came the light of liberty and the establishment of a rules-based international order. Today and every day\, we remember that the great and defining truth about our Nation and our people is that there is nothing beyond our capacity — we do not break\, we never give in\, and we never back down.
URL:https://nlr.ar.gov/event/pearl-harbor-ceremony/
LOCATION:Arkansas Inland Maritime Museum\, 120 Riverfront Park Drive\, North Little Rock\, Arkansas\, 72114\, United States
CATEGORIES:CIty Event,Parks and Recreation
ATTACH;FMTTYPE=image/jpeg:https://nlr.ar.gov/wp-content/uploads/2024/11/aimm-Pearl-Harbor-remembrance-20241207-jpg.webp
END:VEVENT
END:VCALENDAR