BEGIN:VCALENDAR
VERSION:2.0
PRODID:-//City of North Little Rock - ECPv6.15.17.1//NONSGML v1.0//EN
CALSCALE:GREGORIAN
METHOD:PUBLISH
X-ORIGINAL-URL:https://nlr.ar.gov
X-WR-CALDESC:Events for City of North Little Rock
REFRESH-INTERVAL;VALUE=DURATION:PT1H
X-Robots-Tag:noindex
X-PUBLISHED-TTL:PT1H
BEGIN:VTIMEZONE
TZID:America/Chicago
BEGIN:DAYLIGHT
TZOFFSETFROM:-0600
TZOFFSETTO:-0500
TZNAME:CDT
DTSTART:20220313T080000
END:DAYLIGHT
BEGIN:STANDARD
TZOFFSETFROM:-0500
TZOFFSETTO:-0600
TZNAME:CST
DTSTART:20221106T070000
END:STANDARD
BEGIN:DAYLIGHT
TZOFFSETFROM:-0600
TZOFFSETTO:-0500
TZNAME:CDT
DTSTART:20230312T080000
END:DAYLIGHT
BEGIN:STANDARD
TZOFFSETFROM:-0500
TZOFFSETTO:-0600
TZNAME:CST
DTSTART:20231105T070000
END:STANDARD
BEGIN:DAYLIGHT
TZOFFSETFROM:-0600
TZOFFSETTO:-0500
TZNAME:CDT
DTSTART:20240310T080000
END:DAYLIGHT
BEGIN:STANDARD
TZOFFSETFROM:-0500
TZOFFSETTO:-0600
TZNAME:CST
DTSTART:20241103T070000
END:STANDARD
END:VTIMEZONE
BEGIN:VEVENT
DTSTART;TZID=America/Chicago:20230918T170000
DTEND;TZID=America/Chicago:20230918T173000
DTSTAMP:20260419T071136
CREATED:20231213T175104Z
LAST-MODIFIED:20240829T195833Z
UID:10000328-1695056400-1695058200@nlr.ar.gov
SUMMARY:Parks and Recreation Commission Meeting
DESCRIPTION:The Parks and Recreation Commission meets the third Monday (the following Tuesday if Monday is a holiday) of the month. \n\n\n\nA listing of the scheduled meeting dates\, locations\, and members can be found here.
URL:https://nlr.ar.gov/event/parks-and-recreation-commission-meeting-3/2023-09-18/
LOCATION:North Little Rock Community Center\, 2700 Willow Street\, North Little Rock\, Arkansas\, 72114-2228\, United States
CATEGORIES:CIty Event,Parks and Recreation
END:VEVENT
BEGIN:VEVENT
DTSTART;TZID=America/Chicago:20230921T173000
DTEND;TZID=America/Chicago:20230921T193000
DTSTAMP:20260419T071136
CREATED:20230906T192008Z
LAST-MODIFIED:20240829T195657Z
UID:10000170-1695317400-1695324600@nlr.ar.gov
SUMMARY:Garden Reception at the Old Mill
DESCRIPTION:If you are interested in or want more information about volunteering with the Friends of the Old Mill\, come on by.
URL:https://nlr.ar.gov/event/garden-reception-at-the-old-mill/
LOCATION:The Old Mill\, 3800 Lakeshore Drive\, North Little Rock\, Arkansas\, 72116\, United States
CATEGORIES:CIty Event,Parks and Recreation
ATTACH;FMTTYPE=image/jpeg:https://nlr.ar.gov/wp-content/uploads/2023/03/DSC_5648web-2-jpeg.webp
ORGANIZER;CN="Friends of the Old Mill":MAILTO:info@friendsoftheoldmill.org
END:VEVENT
BEGIN:VEVENT
DTSTART;TZID=America/Chicago:20230923T150000
DTEND;TZID=America/Chicago:20230923T190000
DTSTAMP:20260419T071136
CREATED:20230922T161722Z
LAST-MODIFIED:20240829T194318Z
UID:10000254-1695481200-1695495600@nlr.ar.gov
SUMMARY:National Night Out
DESCRIPTION:NLR Participates in National Night Out \n\n\n\nNorth Little Rock\, Arkansas (Tuesday\, September 19\, 2023)….. Tuesday\, October 3\, 2023 is National Night Out! This annual event is a community-building campaign that promotes police-community partnerships and neighborhood camaraderie to help make our neighborhoods safer and improve the quality of life. Cookouts\, block parties\, children’s events and ice cream socials will occur simultaneously throughout North Little Rock. Included in this release are neighborhood associations in North Little Rock that have organized and will be hosting events. The community is welcome to join a National Night Out event in their neighborhood. The following neighborhood organizations have committed to participating in North Little Rock’s National Night Out. \n\n\n\nSATURDAY\, SEPTEMBER 23\n\n\n\n\nWARD 1\n\nHolt Neighborhood Association\, Gardner Memorial UMC\, Amboy UMC and the Universal Peace Foundation\, 3-7pm at Gardner Memorial UMC\, 1723 Schaer Street. Activities include: music\, games for adults and children\, food and speeches. Contact: Rev. Melvin Moss\, 501-993-1985.\n\n\n\n\n\n\nTUESDAY\, OCTOBER 3\n\n\n\n\nWards 1:\n\nWARD 1 – Park Hill Neighborhood Association\, at Idlewild Park\, Idlewild and Cedar Streets. For more information contact: Wendy Gregan\, 501-758-7159.\n\n\n\n\n\nWARD 2:\n\nYoung Community Advocates of Baring Cross\, 3-5:30 pm\, 1701 Pike Avenue (Dollar General parking lot). Activities include: A meet & greet beginning at 3pm. Refreshments will be served prior to cleanup\, 3:30-5:30 p.m.\n\n\n\nDixie Addition CDC\, 5:00 p.m. until 7:00 p.m. at 914 North “H” Street. Activities include: food\, fun & fellowship. Contact: Earnest Franklin\, 501-563-5400 or Margie Evans\, 501-258-8167.\n\n\n\nRose City Neighborhood Association & NLR Police Athletic League\, 5-7pm\, Rose City Ball Park\, 400 Rose Lane. Activities include: live DJ\, free food and events for children and residents. Contact: Martha Capps\, 501-580-1079.\n\n\n\nStone Links Neighborhood Association\, 5:30-7:30pm\, Stone Links Club House\, 110 AR 391. Activities include: health screenings\, food\, bounce house\, games\, face painting and fun. Contact: Marie Hollowell\, 404-259-2957.\n\n\n\n\n\n\n\nWARD 3:\n\nAmboy Neighborhood Association\, 5:30–7:30 pm at Amboy United Methodist Church Parking lot\, 311 E. Military Dr. Activities food\, fun and fellowship. Contact: Angelica Barnard\, 501-297-8720 or Paula Lively\, 501-350-7649.\n\n\n\nScenic Hill Neighborhood Association\, 5:00- 7:30 p.m.\, at corner of East Scenic and Valley View. Activities include: snacks\, drinks and meet and greet. Contact: Randy Naylor\, 501-350-8775.\n\n\n\n\n\n\n\nWARD 4:\n\nCobblestone Crime Watch Group\, 4-7pm\, 913 Cobblestone Circle. Activities include: Burgers\, hot dogs\, meet and greet first responders and members of crime watch group. Contact: Suni McClelland\, 501-920-5330.\n\n\n\nWindsor Valley Neighborhood\, 6:00 p.m. until 8:00 p.m. at south end of Coleridge at Covington. Activities include: two food trucks\, police & fire officials and kids craft table. Contact: Brandi Legate\, 501-951-0778.\n\n\n\n\n\n\nSATURDAY\, OCTOBER 14\n\n\n\n\nWard 2\n\nMelrose Community Outreach\, 3-5pm\, 807 Willow St. Activities: drive through block party. Contact: Tammy Small\, 501-541-3703.
URL:https://nlr.ar.gov/event/national-night-out-4/
LOCATION:Arkansas
CATEGORIES:CIty Event,General
ATTACH;FMTTYPE=image/jpeg:https://nlr.ar.gov/wp-content/uploads/2023/09/header-National-Night-Out-jpg.webp
END:VEVENT
END:VCALENDAR