BEGIN:VCALENDAR
VERSION:2.0
PRODID:-//City of North Little Rock - ECPv6.15.17.1//NONSGML v1.0//EN
CALSCALE:GREGORIAN
METHOD:PUBLISH
X-WR-CALNAME:City of North Little Rock
X-ORIGINAL-URL:https://nlr.ar.gov
X-WR-CALDESC:Events for City of North Little Rock
REFRESH-INTERVAL;VALUE=DURATION:PT1H
X-Robots-Tag:noindex
X-PUBLISHED-TTL:PT1H
BEGIN:VTIMEZONE
TZID:America/Chicago
BEGIN:DAYLIGHT
TZOFFSETFROM:-0600
TZOFFSETTO:-0500
TZNAME:CDT
DTSTART:20240310T080000
END:DAYLIGHT
BEGIN:STANDARD
TZOFFSETFROM:-0500
TZOFFSETTO:-0600
TZNAME:CST
DTSTART:20241103T070000
END:STANDARD
BEGIN:DAYLIGHT
TZOFFSETFROM:-0600
TZOFFSETTO:-0500
TZNAME:CDT
DTSTART:20250309T080000
END:DAYLIGHT
BEGIN:STANDARD
TZOFFSETFROM:-0500
TZOFFSETTO:-0600
TZNAME:CST
DTSTART:20251102T070000
END:STANDARD
BEGIN:DAYLIGHT
TZOFFSETFROM:-0600
TZOFFSETTO:-0500
TZNAME:CDT
DTSTART:20260308T080000
END:DAYLIGHT
BEGIN:STANDARD
TZOFFSETFROM:-0500
TZOFFSETTO:-0600
TZNAME:CST
DTSTART:20261101T070000
END:STANDARD
END:VTIMEZONE
BEGIN:VEVENT
DTSTART;TZID=America/Chicago:20250509T150000
DTEND;TZID=America/Chicago:20250509T160000
DTSTAMP:20260422T184756
CREATED:20250508T211516Z
LAST-MODIFIED:20250508T211519Z
UID:10000460-1746802800-1746806400@nlr.ar.gov
SUMMARY:Special Call City Council Meeting
DESCRIPTION:R-25-85. Authorizing the Mayor and City Clerk to submit a funding request on behalf of the City of North Little Rock for Congressionally directed funds for the design of the Main Street Viaduct Replacement Project; appropriating funds. Sponsor: Mayor Terry C. Hartwick.
URL:https://nlr.ar.gov/event/special-call-city-council-meeting/
LOCATION:North Little Rock City Hall\, 300 Main Street\, North Little Rock\, AR\, 72114\, United States
CATEGORIES:City Council,CIty Event
END:VEVENT
BEGIN:VEVENT
DTSTART;TZID=America/Chicago:20250512T180000
DTEND;TZID=America/Chicago:20250512T190000
DTSTAMP:20260422T184756
CREATED:20230912T142054Z
LAST-MODIFIED:20230912T142055Z
UID:10000244-1747072800-1747076400@nlr.ar.gov
SUMMARY:City Council Meeting
DESCRIPTION:The North Little Rock City Council meets the 2nd and 4th Monday at 6:00 pm in the City Hall Council Chambers. \n\n\n\nThe agenda is posted by Wednesday prior to the upcoming meeting. \n\n\n\n\nUpcoming Council Agenda\n\n\n\nCouncil Archives\n\n\n\n\nYou can watch our meetings on City Comcast Channel 11\, AT&T U-Verse Channel 99\, or the North Little Rock Government Facebook page. \n\n\n\nFind out more about your North Little Rock City Council Members here.
URL:https://nlr.ar.gov/event/city-council-meeting-4/2025-05-12/
LOCATION:NLR City Hall Council Chambers\, 300 Main Street\, North Little Rock\, Arkansas\, 72114\, United States
CATEGORIES:City Council
END:VEVENT
BEGIN:VEVENT
DTSTART;TZID=America/Chicago:20250513T160000
DTEND;TZID=America/Chicago:20250513T170000
DTSTAMP:20260422T184756
CREATED:20230101T210633Z
LAST-MODIFIED:20240829T194318Z
UID:10000123-1747152000-1747155600@nlr.ar.gov
SUMMARY:Planning Commission Meeting
DESCRIPTION:
URL:https://nlr.ar.gov/event/planning-commission-meeting/2025-05-13/
LOCATION:Arkansas
CATEGORIES:CIty Event,General
END:VEVENT
BEGIN:VEVENT
DTSTART;TZID=America/Chicago:20250516T090000
DTEND;TZID=America/Chicago:20250516T140000
DTSTAMP:20260422T184756
CREATED:20250506T213428Z
LAST-MODIFIED:20250506T213430Z
UID:10000459-1747386000-1747404000@nlr.ar.gov
SUMMARY:Blood Drive at the Hays Senior Center
DESCRIPTION:Patrick Henry Hays Senior Center Blood Drive \n\n\n\nGoal:             15 successful donors \n\n\n\nAppointment Scheduling: \n\n\n\nTo deliver the best blood drive experience\, we encourage donors to schedule appointments.  For donors to schedule an appointment\, they can click on the link below or use the QR code provided on the posters. \n\n\n\nhttps://www.yourbloodinstitute.org/donor/schedules/drive_schedule/674309 \n\n\n\nIncentives:All donors receive one of our shark themed t-shirts and a ticket to Magic Springs \n\n\n\nPlease feel free to reach out to me if you need any other information. Your help is greatly appreciated. \n\n\n\nKacie Kindrex(501) 519-6224kacie.kindrex@obi.org
URL:https://nlr.ar.gov/event/blood-drive-at-the-hays-senior-center/
LOCATION:Hays Senior Center\, 401 W Pershing Blvd\, North Little Rock\, Arkansas\, 72114\, United States
CATEGORIES:CIty Event,General,Senior Center
ATTACH;FMTTYPE=image/jpeg:https://nlr.ar.gov/wp-content/uploads/2025/05/Hays-Sr-Center-Blood-Drive-20250516-jpg.webp
END:VEVENT
BEGIN:VEVENT
DTSTART;TZID=America/Chicago:20250519T170000
DTEND;TZID=America/Chicago:20250519T180000
DTSTAMP:20260422T184756
CREATED:20240716T201039Z
LAST-MODIFIED:20240829T195225Z
UID:10000348-1747674000-1747677600@nlr.ar.gov
SUMMARY:Parks and Recreation Commission Meeting
DESCRIPTION:The Parks and Recreation Commission meets the third Monday (the following Tuesday if Monday is a holiday) of the month. \n\n\n\nA listing of the scheduled meeting dates\, locations\, and members can be found here.
URL:https://nlr.ar.gov/event/parks-and-recreation-commission-meeting-11/2025-05-19/
LOCATION:North Little Rock Community Center\, 2700 Willow Street\, North Little Rock\, Arkansas\, 72114-2228\, United States
CATEGORIES:CIty Event,Parks and Recreation
END:VEVENT
BEGIN:VEVENT
DTSTART;TZID=America/Chicago:20250526T000000
DTEND;TZID=America/Chicago:20250526T235959
DTSTAMP:20260422T184756
CREATED:20241216T175555Z
LAST-MODIFIED:20250515T163136Z
UID:10000435-1748217600-1748303999@nlr.ar.gov
SUMMARY:City Closed - Memorial Day
DESCRIPTION:City offices are closed in observance of the holiday. NLR Sanitation will run a one-day delayed schedule Tuesday-Saturday\, May 27-31.
URL:https://nlr.ar.gov/event/city-closed-memorial-day-3/
LOCATION:Arkansas
CATEGORIES:CIty Event,Holiday
END:VEVENT
BEGIN:VEVENT
DTSTART;TZID=America/Chicago:20250527T180000
DTEND;TZID=America/Chicago:20250527T190000
DTSTAMP:20260422T184756
CREATED:20241216T182714Z
LAST-MODIFIED:20250327T133308Z
UID:10000195-1748368800-1748372400@nlr.ar.gov
SUMMARY:City Council Meeting
DESCRIPTION:The North Little Rock City Council meets the 2nd and 4th Monday at 6:00 pm in the City Hall Council Chambers. \n\n\n\nThe agenda is posted by Wednesday prior to the upcoming meeting. \n\n\n\n\nUpcoming Council Agenda\n\n\n\nCouncil Archives\n\n\n\n\nYou can watch our meetings on City Comcast Channel 11\, AT&T U-Verse Channel 99\, or the North Little Rock Government Facebook page. \n\n\n\nFind out more about your North Little Rock City Council Members here.
URL:https://nlr.ar.gov/event/city-council-meeting-10/
LOCATION:NLR City Hall Council Chambers\, 300 Main Street\, North Little Rock\, Arkansas\, 72114\, United States
CATEGORIES:City Council,CIty Event
END:VEVENT
BEGIN:VEVENT
DTSTART;TZID=America/Chicago:20250530T080000
DTEND;TZID=America/Chicago:20250530T170000
DTSTAMP:20260422T184756
CREATED:20250513T211415Z
LAST-MODIFIED:20250513T211556Z
UID:10000463-1748592000-1748624400@nlr.ar.gov
SUMMARY:Free Spay and Neuter Canine Clinic
DESCRIPTION:A FREE spay and neuter canine clinic will be held on Friday\, May 30\, 2025 at the NLR Animal Shelter (1 Championship Drive\, North Little Rock\, AR 72118). \n\n\n\nThis program is FIRST-COME\, FIRST-SERVE\, and based on order of emails received. Reserve a spot for surgery day using the link/button below. Please include: name\, number\, address\, pet name\, pet age\, breed\, pet weight\, and rabies vaccine certification. \n\n\n\n\nReserve a spot for surgery day\n\n\n\n\nPlease: \n\n\n\n\nBring your rabies vaccine proof\n\n\n\nNo aggressive dogs\n\n\n\nNo dogs over 70 lbs\n\n\n\nNo cats\n\n\n\nNo dogs over 7 years old\n\n\n\n\nOur spay/neuter clinic is dedicated to serving individual pet owners. At this time\, we are unable to accommodate rescue organizations or shelters. Thank you for understanding!
URL:https://nlr.ar.gov/event/free-spay-and-neuter-canine-clinic/
LOCATION:North Little Rock Animal Shelter\, 1 Championship Drive\, North Little Rock\, Arkansas\, 72118\, United States
CATEGORIES:Animal Services,CIty Event
ATTACH;FMTTYPE=image/jpeg:https://nlr.ar.gov/wp-content/uploads/2025/05/animal-spay-neuter-clinic-20250530-jpg.webp
END:VEVENT
BEGIN:VEVENT
DTSTART;TZID=America/Chicago:20250530T110000
DTEND;TZID=America/Chicago:20250530T120000
DTSTAMP:20260422T184756
CREATED:20250513T203252Z
LAST-MODIFIED:20250513T203255Z
UID:10000462-1748602800-1748606400@nlr.ar.gov
SUMMARY:Splash Pad Ribbon Cutting
DESCRIPTION:Join us for a Ribbon Cutting for the Burns Park Funland Splash Pad on Friday\, May 30th at 11:00 am. (Bring your swimsuit.)
URL:https://nlr.ar.gov/event/splash-pad-ribbon-cutting/
LOCATION:Burns Park Funland\, 25 Funland Drive\, North Little Rock\, Arkansas\, 72118\, United States
CATEGORIES:CIty Event,Parks and Recreation
ATTACH;FMTTYPE=image/png:https://nlr.ar.gov/wp-content/uploads/2025/05/splash-pad-opening-20250530.png
END:VEVENT
BEGIN:VEVENT
DTSTART;TZID=America/Chicago:20250530T130000
DTEND;TZID=America/Chicago:20250530T140000
DTSTAMP:20260422T184756
CREATED:20250521T144208Z
LAST-MODIFIED:20250521T144210Z
UID:10000464-1748610000-1748613600@nlr.ar.gov
SUMMARY:Big Rock Quarry's Crystal Bluff Climbing Area Opening
DESCRIPTION:
URL:https://nlr.ar.gov/event/big-rock-quarrys-crystal-bluff-climbing-area-opening/
LOCATION:Big Rock Quarry\, 3320 River Road\, North Little Rock\, AR\, 72114\, United States
CATEGORIES:CIty Event,Parks and Recreation
ATTACH;FMTTYPE=image/png:https://nlr.ar.gov/wp-content/uploads/2025/05/Rock-Quarry-CLimbing-Rope-Cutting-20250530.png
END:VEVENT
END:VCALENDAR