BEGIN:VCALENDAR
VERSION:2.0
PRODID:-//City of North Little Rock - ECPv6.15.17.1//NONSGML v1.0//EN
CALSCALE:GREGORIAN
METHOD:PUBLISH
X-ORIGINAL-URL:https://nlr.ar.gov
X-WR-CALDESC:Events for City of North Little Rock
REFRESH-INTERVAL;VALUE=DURATION:PT1H
X-Robots-Tag:noindex
X-PUBLISHED-TTL:PT1H
BEGIN:VTIMEZONE
TZID:America/Chicago
BEGIN:DAYLIGHT
TZOFFSETFROM:-0600
TZOFFSETTO:-0500
TZNAME:CDT
DTSTART:20240310T080000
END:DAYLIGHT
BEGIN:STANDARD
TZOFFSETFROM:-0500
TZOFFSETTO:-0600
TZNAME:CST
DTSTART:20241103T070000
END:STANDARD
BEGIN:DAYLIGHT
TZOFFSETFROM:-0600
TZOFFSETTO:-0500
TZNAME:CDT
DTSTART:20250309T080000
END:DAYLIGHT
BEGIN:STANDARD
TZOFFSETFROM:-0500
TZOFFSETTO:-0600
TZNAME:CST
DTSTART:20251102T070000
END:STANDARD
BEGIN:DAYLIGHT
TZOFFSETFROM:-0600
TZOFFSETTO:-0500
TZNAME:CDT
DTSTART:20260308T080000
END:DAYLIGHT
BEGIN:STANDARD
TZOFFSETFROM:-0500
TZOFFSETTO:-0600
TZNAME:CST
DTSTART:20261101T070000
END:STANDARD
END:VTIMEZONE
BEGIN:VEVENT
DTSTART;TZID=America/Chicago:20250408T070000
DTEND;TZID=America/Chicago:20250408T140000
DTSTAMP:20260422T171310
CREATED:20250321T155451Z
LAST-MODIFIED:20250321T155454Z
UID:10000448-1744095600-1744120800@nlr.ar.gov
SUMMARY:Electronics Recycling Drop Off Day
DESCRIPTION:Stop by and drop off your electronics for recycling at Simmons Bank Arena Parking Lot.
URL:https://nlr.ar.gov/event/electronics-recycling-drop-off-day/
LOCATION:Arkansas
CATEGORIES:CIty Event
ATTACH;FMTTYPE=image/jpeg:https://nlr.ar.gov/wp-content/uploads/2025/03/Electronics-Recycling-Drop-Off-20250408-jpg.webp
END:VEVENT
BEGIN:VEVENT
DTSTART;TZID=America/Chicago:20250408T160000
DTEND;TZID=America/Chicago:20250408T170000
DTSTAMP:20260422T171310
CREATED:20230101T210633Z
LAST-MODIFIED:20240829T194318Z
UID:10000122-1744128000-1744131600@nlr.ar.gov
SUMMARY:Planning Commission Meeting
DESCRIPTION:
URL:https://nlr.ar.gov/event/planning-commission-meeting/2025-04-08/
LOCATION:Arkansas
CATEGORIES:CIty Event,General
END:VEVENT
BEGIN:VEVENT
DTSTART;TZID=America/Chicago:20250410T183000
DTEND;TZID=America/Chicago:20250410T203000
DTSTAMP:20260422T171310
CREATED:20250406T231900Z
LAST-MODIFIED:20250406T231904Z
UID:10000456-1744309800-1744317000@nlr.ar.gov
SUMMARY:Easter Egg Hunt at North Little Rock CC
DESCRIPTION:This is a hunt for adults with special needs as part of our Therapeutic Recreation Program. \n\n\n\nNLRCC – TR Adult Egg Hunt – April 10 at 6:30 pm – 2700 Willow Street – 501-690-0059
URL:https://nlr.ar.gov/event/easter-egg-hunt-at-north-little-rock-cc/
LOCATION:North Little Rock Community Center\, 2700 Willow Street\, North Little Rock\, Arkansas\, 72114-2228\, United States
CATEGORIES:CIty Event,Parks and Recreation
ATTACH;FMTTYPE=image/jpeg:https://nlr.ar.gov/wp-content/uploads/2025/04/TR-ADULT-EASTER-2025-scaled.webp
END:VEVENT
BEGIN:VEVENT
DTSTART;TZID=America/Chicago:20250412T130000
DTEND;TZID=America/Chicago:20250412T150000
DTSTAMP:20260422T171310
CREATED:20250404T153057Z
LAST-MODIFIED:20250404T153059Z
UID:10000450-1744462800-1744470000@nlr.ar.gov
SUMMARY:Think Before You Drink: Sober Vision
DESCRIPTION:Join us for this Drunk Driving simulation event for high school students! Wear ‘drunk goggles’ and experience the effects of a 0.12 BAC while driving a golf cart\, participating in a field sobriety test\, and other eye-opening activities! Games\, FREE hot dogs\, and much more. \n\n\n\nSpecial presentation from Sergeant Willie Davis and Lieutenant Charles Tidwell from the Pulaski County Sheriff’s Office about the realities of drinking and driving. \n\n\n\n\nRegister here and complete the waiver\n\n\n\n\nFor more information contact Jill Mills at 501-804-8950 or jillmillsNLRMYC@yahoo.com.
URL:https://nlr.ar.gov/event/think-before-you-drink-sober-vision/
LOCATION:Arkansas
CATEGORIES:CIty Event
ATTACH;FMTTYPE=image/jpeg:https://nlr.ar.gov/wp-content/uploads/2025/04/MYC-Sober-Vision-20250412-jpg.webp
END:VEVENT
BEGIN:VEVENT
DTSTART;TZID=America/Chicago:20250414T180000
DTEND;TZID=America/Chicago:20250414T190000
DTSTAMP:20260422T171310
CREATED:20230912T142054Z
LAST-MODIFIED:20230912T142055Z
UID:10000243-1744653600-1744657200@nlr.ar.gov
SUMMARY:City Council Meeting
DESCRIPTION:The North Little Rock City Council meets the 2nd and 4th Monday at 6:00 pm in the City Hall Council Chambers. \n\n\n\nThe agenda is posted by Wednesday prior to the upcoming meeting. \n\n\n\n\nUpcoming Council Agenda\n\n\n\nCouncil Archives\n\n\n\n\nYou can watch our meetings on City Comcast Channel 11\, AT&T U-Verse Channel 99\, or the North Little Rock Government Facebook page. \n\n\n\nFind out more about your North Little Rock City Council Members here.
URL:https://nlr.ar.gov/event/city-council-meeting-4/2025-04-14/
LOCATION:NLR City Hall Council Chambers\, 300 Main Street\, North Little Rock\, Arkansas\, 72114\, United States
CATEGORIES:City Council
END:VEVENT
BEGIN:VEVENT
DTSTART;TZID=America/Chicago:20250415T110000
DTEND;TZID=America/Chicago:20250415T120000
DTSTAMP:20260422T171310
CREATED:20250403T140837Z
LAST-MODIFIED:20250403T141418Z
UID:10000449-1744714800-1744718400@nlr.ar.gov
SUMMARY:Topping Out and Beam Signing
DESCRIPTION:Please join us in signing the last beam placed in the new Central Fire Station at the corner of 13th and Main Streets in North Little Rock.
URL:https://nlr.ar.gov/event/topping-out-and-beam-signing/
LOCATION:Arkansas
CATEGORIES:CIty Event,Fire Department
ATTACH;FMTTYPE=image/jpeg:https://nlr.ar.gov/wp-content/uploads/2025/04/DJI_17_DJI_0209-jpg.webp
END:VEVENT
BEGIN:VEVENT
DTSTART;TZID=America/Chicago:20250419T090000
DTEND;TZID=America/Chicago:20250419T120000
DTSTAMP:20260422T171310
CREATED:20250406T231316Z
LAST-MODIFIED:20250406T232121Z
UID:10000454-1745053200-1745064000@nlr.ar.gov
SUMMARY:Easter Egg Hunt at Burns Park
DESCRIPTION:Burns Park – April 19 at 9 am – Soccer Complex (1 Soccer Ave) – 501-580-1407
URL:https://nlr.ar.gov/event/easter-egg-hunt-at-burns-park/
LOCATION:Burns Park Soccer Complex\, 1 Soccer Avenue\, North Little Rock\, Arkansas\, 72118\, United States
CATEGORIES:CIty Event,Parks and Recreation
ATTACH;FMTTYPE=image/png:https://nlr.ar.gov/wp-content/uploads/2025/04/Easter-Flyer-Burns-Park-2025.png
END:VEVENT
BEGIN:VEVENT
DTSTART;TZID=America/Chicago:20250419T100000
DTEND;TZID=America/Chicago:20250419T120000
DTSTAMP:20260422T171310
CREATED:20250406T231003Z
LAST-MODIFIED:20250406T231007Z
UID:10000452-1745056800-1745064000@nlr.ar.gov
SUMMARY:Easter Egg Hunt at Rose City CC
DESCRIPTION:Rose City – April 19 at 10 am – 400 Rose Lane – 501-945-8036
URL:https://nlr.ar.gov/event/easter-egg-hunt-at-rose-city-cc/
LOCATION:Rose City Community Center\, 400 Rose Lane\, North Little Rock\, AR\, 72117\, United States
CATEGORIES:CIty Event,Parks and Recreation
ATTACH;FMTTYPE=image/jpeg:https://nlr.ar.gov/wp-content/uploads/2025/04/RCCC-Easter-Egg-Hunt-2025-jpg.webp
END:VEVENT
BEGIN:VEVENT
DTSTART;TZID=America/Chicago:20250419T100000
DTEND;TZID=America/Chicago:20250419T120000
DTSTAMP:20260422T171310
CREATED:20250406T231143Z
LAST-MODIFIED:20250406T232050Z
UID:10000453-1745056800-1745064000@nlr.ar.gov
SUMMARY:Easter Egg Hunt at North Heights CC
DESCRIPTION:North Heights – April 19 at 10am – 701 W 47th Street – 501-791-8576
URL:https://nlr.ar.gov/event/easter-egg-hunt-at-north-heights-cc/
LOCATION:North Heights Community Center\, 4801 Allen Street\, North Little Rock\, Arkansas\, 72118\, United States
CATEGORIES:CIty Event,Parks and Recreation
ATTACH;FMTTYPE=image/jpeg:https://nlr.ar.gov/wp-content/uploads/2025/04/Easter-Egg-Hunt-2025-scaled.webp
END:VEVENT
BEGIN:VEVENT
DTSTART;TZID=America/Chicago:20250419T110000
DTEND;TZID=America/Chicago:20250419T130000
DTSTAMP:20260422T171310
CREATED:20250406T230627Z
LAST-MODIFIED:20250406T230630Z
UID:10000451-1745060400-1745067600@nlr.ar.gov
SUMMARY:Easter Egg Hunt at Glenview CC
DESCRIPTION:Glenview – April 19 at 11 am – 4800 E 19th Street – 501-945-2921
URL:https://nlr.ar.gov/event/easter-egg-hunt-at-glenview-cc/
LOCATION:Glenview Community Center\, 4800 E 19th Street\, North Little Rock\, Arkansas\, 72117\, United States
CATEGORIES:CIty Event,Parks and Recreation
ATTACH;FMTTYPE=image/jpeg:https://nlr.ar.gov/wp-content/uploads/2025/04/Easter2025-scaled.webp
END:VEVENT
BEGIN:VEVENT
DTSTART;TZID=America/Chicago:20250420T150000
DTEND;TZID=America/Chicago:20250420T170000
DTSTAMP:20260422T171310
CREATED:20250406T231508Z
LAST-MODIFIED:20250406T231512Z
UID:10000455-1745161200-1745168400@nlr.ar.gov
SUMMARY:Easter Egg Hunt at Sherman Park CC
DESCRIPTION:Sherman Park – April 20 at 3 pm – 624 Beech Street – 501-340-5373
URL:https://nlr.ar.gov/event/easter-egg-hunt-at-sherman-park-cc/
LOCATION:Sherman Park Community Center\, 624 Beech Street\, North Little Rock\, AR\, 72117\, United States
CATEGORIES:CIty Event,Parks and Recreation
ATTACH;FMTTYPE=image/jpeg:https://nlr.ar.gov/wp-content/uploads/2025/04/Easter-Egg-Hunt-2025-1-jpg.webp
END:VEVENT
BEGIN:VEVENT
DTSTART;TZID=America/Chicago:20250421T170000
DTEND;TZID=America/Chicago:20250421T180000
DTSTAMP:20260422T171310
CREATED:20240716T201039Z
LAST-MODIFIED:20240829T195225Z
UID:10000347-1745254800-1745258400@nlr.ar.gov
SUMMARY:Parks and Recreation Commission Meeting
DESCRIPTION:The Parks and Recreation Commission meets the third Monday (the following Tuesday if Monday is a holiday) of the month. \n\n\n\nA listing of the scheduled meeting dates\, locations\, and members can be found here.
URL:https://nlr.ar.gov/event/parks-and-recreation-commission-meeting-11/2025-04-21/
LOCATION:North Little Rock Community Center\, 2700 Willow Street\, North Little Rock\, Arkansas\, 72114-2228\, United States
CATEGORIES:CIty Event,Parks and Recreation
END:VEVENT
BEGIN:VEVENT
DTSTART;TZID=America/Chicago:20250422T133000
DTEND;TZID=America/Chicago:20250422T140000
DTSTAMP:20260422T171310
CREATED:20250416T170419Z
LAST-MODIFIED:20250416T170422Z
UID:10000457-1745328600-1745330400@nlr.ar.gov
SUMMARY:North Little Rock Community Center Ribbon Cutting
DESCRIPTION:Join us as we reopen the North Little Rock Community Center. Many updates and renovations have been made over the past few months.
URL:https://nlr.ar.gov/event/north-little-rock-community-center-ribbon-cutting/
LOCATION:North Little Rock Community Center\, 2700 Willow Street\, North Little Rock\, Arkansas\, 72114-2228\, United States
CATEGORIES:CIty Event,Parks and Recreation
ATTACH;FMTTYPE=image/png:https://nlr.ar.gov/wp-content/uploads/2025/04/NLRCC-Ribbon-CUtting-20250422.png
END:VEVENT
BEGIN:VEVENT
DTSTART;TZID=America/Chicago:20250428T180000
DTEND;TZID=America/Chicago:20250428T190000
DTSTAMP:20260422T171310
CREATED:20230912T141353Z
LAST-MODIFIED:20250327T133309Z
UID:10000194-1745863200-1745866800@nlr.ar.gov
SUMMARY:City Council Meeting
DESCRIPTION:The North Little Rock City Council meets the 2nd and 4th Monday at 6:00 pm in the City Hall Council Chambers. \n\n\n\nThe agenda is posted by Wednesday prior to the upcoming meeting. \n\n\n\n\nUpcoming Council Agenda\n\n\n\nCouncil Archives\n\n\n\n\nYou can watch our meetings on City Comcast Channel 11\, AT&T U-Verse Channel 99\, or the North Little Rock Government Facebook page. \n\n\n\nFind out more about your North Little Rock City Council Members here.
URL:https://nlr.ar.gov/event/city-council-meeting-3/2025-04-28/
LOCATION:NLR City Hall Council Chambers\, 300 Main Street\, North Little Rock\, Arkansas\, 72114\, United States
CATEGORIES:City Council,CIty Event
END:VEVENT
END:VCALENDAR