BEGIN:VCALENDAR
VERSION:2.0
PRODID:-//City of North Little Rock - ECPv6.15.17.1//NONSGML v1.0//EN
CALSCALE:GREGORIAN
METHOD:PUBLISH
X-WR-CALNAME:City of North Little Rock
X-ORIGINAL-URL:https://nlr.ar.gov
X-WR-CALDESC:Events for City of North Little Rock
REFRESH-INTERVAL;VALUE=DURATION:PT1H
X-Robots-Tag:noindex
X-PUBLISHED-TTL:PT1H
BEGIN:VTIMEZONE
TZID:America/Chicago
BEGIN:DAYLIGHT
TZOFFSETFROM:-0600
TZOFFSETTO:-0500
TZNAME:CDT
DTSTART:20220313T080000
END:DAYLIGHT
BEGIN:STANDARD
TZOFFSETFROM:-0500
TZOFFSETTO:-0600
TZNAME:CST
DTSTART:20221106T070000
END:STANDARD
BEGIN:DAYLIGHT
TZOFFSETFROM:-0600
TZOFFSETTO:-0500
TZNAME:CDT
DTSTART:20230312T080000
END:DAYLIGHT
BEGIN:STANDARD
TZOFFSETFROM:-0500
TZOFFSETTO:-0600
TZNAME:CST
DTSTART:20231105T070000
END:STANDARD
BEGIN:DAYLIGHT
TZOFFSETFROM:-0600
TZOFFSETTO:-0500
TZNAME:CDT
DTSTART:20240310T080000
END:DAYLIGHT
BEGIN:STANDARD
TZOFFSETFROM:-0500
TZOFFSETTO:-0600
TZNAME:CST
DTSTART:20241103T070000
END:STANDARD
END:VTIMEZONE
BEGIN:VEVENT
DTSTART;TZID=America/Chicago:20231021T090000
DTEND;TZID=America/Chicago:20231021T140000
DTSTAMP:20260419T230412
CREATED:20230928T140517Z
LAST-MODIFIED:20240829T195607Z
UID:10000262-1697878800-1697896800@nlr.ar.gov
SUMMARY:Pink Out 2023
DESCRIPTION:Pink Out 2023 Breast Cancer Awareness \n\n\n\nActivities include: \n\n\n\n\nAwareness Spirit Walk\n\n\n\nOld School Basketball Game\n\n\n\nPINKED OUT! Fashion Walk\n\n\n\nHealthy Info Booths\n\n\n\nSpecial Gust Speaker – Verlancia Tucker (Founder and Executive Director\, BOHEMIA Cares)
URL:https://nlr.ar.gov/event/pink-out-2023/
LOCATION:Sherman Park Community Center\, 624 Beech Street\, North Little Rock\, AR\, 72117\, United States
CATEGORIES:CIty Event,Parks and Recreation
ATTACH;FMTTYPE=image/jpeg:https://nlr.ar.gov/wp-content/uploads/2023/09/SPCC-Pink-Out-2023-1-jpg.webp
END:VEVENT
BEGIN:VEVENT
DTSTART;TZID=America/Chicago:20231023T083000
DTEND;TZID=America/Chicago:20231023T193000
DTSTAMP:20260419T230412
CREATED:20230927T141107Z
LAST-MODIFIED:20230927T141108Z
UID:10000260-1698049800-1698089400@nlr.ar.gov
SUMMARY:A Day of Tennis with Luke Jensen
DESCRIPTION:
URL:https://nlr.ar.gov/event/a-day-of-tennis-with-luke-jensen/
LOCATION:Burns Park Tennis Center\, 4000 Joe K Poch Road\, North Little Rock\, Arkansas\, 72118\, United States
CATEGORIES:Parks and Recreation
ATTACH;FMTTYPE=image/jpeg:https://nlr.ar.gov/wp-content/uploads/2023/07/header-tennis-jpg.webp
END:VEVENT
BEGIN:VEVENT
DTSTART;TZID=America/Chicago:20231023T180000
DTEND;TZID=America/Chicago:20231023T190000
DTSTAMP:20260419T230412
CREATED:20230912T141353Z
LAST-MODIFIED:20250327T133309Z
UID:10000176-1698084000-1698087600@nlr.ar.gov
SUMMARY:City Council Meeting
DESCRIPTION:The North Little Rock City Council meets the 2nd and 4th Monday at 6:00 pm in the City Hall Council Chambers. \n\n\n\nThe agenda is posted by Wednesday prior to the upcoming meeting. \n\n\n\n\nUpcoming Council Agenda\n\n\n\nCouncil Archives\n\n\n\n\nYou can watch our meetings on City Comcast Channel 11\, AT&T U-Verse Channel 99\, or the North Little Rock Government Facebook page. \n\n\n\nFind out more about your North Little Rock City Council Members here.
URL:https://nlr.ar.gov/event/city-council-meeting-3/2023-10-23/
LOCATION:NLR City Hall Council Chambers\, 300 Main Street\, North Little Rock\, Arkansas\, 72114\, United States
CATEGORIES:City Council,CIty Event
END:VEVENT
BEGIN:VEVENT
DTSTART;TZID=America/Chicago:20231026T130000
DTEND;TZID=America/Chicago:20231026T140000
DTSTAMP:20260419T230412
CREATED:20231017T170104Z
LAST-MODIFIED:20240829T194319Z
UID:10000271-1698325200-1698328800@nlr.ar.gov
SUMMARY:Food Box Giveaway
DESCRIPTION:When: 1 pm UNTIL the last box is gone – First Come\, First ServeWhere: New Hope Baptist Church – 1821 Edmonds St – North Little Rock\, AR 72117
URL:https://nlr.ar.gov/event/food-box-giveaway/
LOCATION:AR
CATEGORIES:CIty Event,General
ATTACH;FMTTYPE=image/png:https://nlr.ar.gov/wp-content/uploads/2023/10/New-Hope-Food-Box-Giveaway-20231026.png
END:VEVENT
BEGIN:VEVENT
DTSTART;TZID=America/Chicago:20231026T140000
DTEND;TZID=America/Chicago:20231026T150000
DTSTAMP:20260419T230412
CREATED:20231016T141606Z
LAST-MODIFIED:20231016T141607Z
UID:10000269-1698328800-1698332400@nlr.ar.gov
SUMMARY:RV Park 15th Anniversary Celebration
DESCRIPTION:
URL:https://nlr.ar.gov/event/rv-park-15th-anniversary-celebration/
LOCATION:Downtown Riverside RV Park\, 250 S Locust Street\, North Little Rock\, Arkansas\, 72114\, United States
CATEGORIES:CIty Event
ATTACH;FMTTYPE=image/png:https://nlr.ar.gov/wp-content/uploads/2023/10/Downtown-Riverside-RV-Park-15-year-celebration.png
END:VEVENT
BEGIN:VEVENT
DTSTART;TZID=America/Chicago:20231028T100000
DTEND;TZID=America/Chicago:20231028T140000
DTSTAMP:20260419T230412
CREATED:20231024T210455Z
LAST-MODIFIED:20231024T210457Z
UID:10000272-1698487200-1698501600@nlr.ar.gov
SUMMARY:National Drug Take Back
DESCRIPTION:The National Rx Drug Take Back will be held this Saturday\, October 28\, 2023 from 10am – 2pm. NLRPD Officers will be accepting your unused\, expired\, or unwanted prescription medication in the South parking lot at McCain Mall (3929 McCain Blvd). \n\n\n\nIf you can’t make it to our Rx Drug Take Back…Remember you can dispose of your medications in our permanent drop box located in the lobby area of the Police Department (1 Justice Center Drive) 24 hours a day 365 days a year.
URL:https://nlr.ar.gov/event/national-drug-take-back/
LOCATION:McCain Mall\, 3929 McCain Blvd\, North Little Rock\, Arkansas\, 72116\, United States
CATEGORIES:CIty Event
ATTACH;FMTTYPE=image/jpeg:https://nlr.ar.gov/wp-content/uploads/2023/10/Natl-Rx-Take-Back-Oct-2023-jpg.webp
END:VEVENT
BEGIN:VEVENT
DTSTART;TZID=America/Chicago:20231028T100000
DTEND;TZID=America/Chicago:20231028T140000
DTSTAMP:20260419T230412
CREATED:20230828T192519Z
LAST-MODIFIED:20230828T192520Z
UID:10000167-1698487200-1698501600@nlr.ar.gov
SUMMARY:Animal Adoption Mobile  Unit (Pulaski County)
DESCRIPTION:will be at Fall Festival in Pulaski County (3201 W Roosevelt Rd – LR\, AR)
URL:https://nlr.ar.gov/event/animal-adoption-mobile-unit-pulaski-county/
LOCATION:AR
CATEGORIES:Animal Services
ATTACH;FMTTYPE=image/jpeg:https://nlr.ar.gov/wp-content/uploads/2023/08/Mobile-Adoption-Unit2-scaled.webp
ORGANIZER;CN="NLR Animal Services":MAILTO:animalservices@nlr.ar.gov
END:VEVENT
BEGIN:VEVENT
DTSTART;TZID=America/Chicago:20231031T160000
DTEND;TZID=America/Chicago:20231031T183000
DTSTAMP:20260419T230412
CREATED:20231030T194720Z
LAST-MODIFIED:20240829T195607Z
UID:10000285-1698768000-1698777000@nlr.ar.gov
SUMMARY:Halloween at the Libraries
DESCRIPTION:FOUR events to choose from…
URL:https://nlr.ar.gov/event/halloween-at-the-libraries/
LOCATION:AR
CATEGORIES:CIty Event,Library
ATTACH;FMTTYPE=image/jpeg:https://nlr.ar.gov/wp-content/uploads/2023/10/rover-jpg.webp
END:VEVENT
BEGIN:VEVENT
DTSTART;TZID=America/Chicago:20231031T173000
DTEND;TZID=America/Chicago:20231031T193000
DTSTAMP:20260419T230412
CREATED:20231027T173143Z
LAST-MODIFIED:20240829T195607Z
UID:10000273-1698773400-1698780600@nlr.ar.gov
SUMMARY:Halloween at Glenview
DESCRIPTION:Halloween fun for all ages to enjoy! \n\n\n\nSpook House – Bounce House – Monster Mash Dance – Trick or Treat Stations – Costume Contest
URL:https://nlr.ar.gov/event/halloween-at-glenview/
LOCATION:Glenview Community Center\, 4800 E 19th Street\, North Little Rock\, Arkansas\, 72117\, United States
CATEGORIES:CIty Event,Parks and Recreation
ATTACH;FMTTYPE=image/jpeg:https://nlr.ar.gov/wp-content/uploads/2023/10/GV-Halloween2023-scaled.webp
END:VEVENT
BEGIN:VEVENT
DTSTART;TZID=America/Chicago:20231031T173000
DTEND;TZID=America/Chicago:20231031T200000
DTSTAMP:20260419T230412
CREATED:20231027T173532Z
LAST-MODIFIED:20240829T195607Z
UID:10000274-1698773400-1698782400@nlr.ar.gov
SUMMARY:Halloween at Sherman Park
DESCRIPTION:Drive through OR Walk through Trick or Treating
URL:https://nlr.ar.gov/event/halloween-at-sherman-park/
LOCATION:Sherman Park Community Center\, 624 Beech Street\, North Little Rock\, AR\, 72117\, United States
CATEGORIES:CIty Event,Parks and Recreation
ATTACH;FMTTYPE=image/jpeg:https://nlr.ar.gov/wp-content/uploads/2023/10/Halloween-Trick-or-Treat--scaled.webp
END:VEVENT
BEGIN:VEVENT
DTSTART;TZID=America/Chicago:20231031T180000
DTEND;TZID=America/Chicago:20231031T200000
DTSTAMP:20260419T230412
CREATED:20231030T190213Z
LAST-MODIFIED:20240829T195606Z
UID:10000284-1698775200-1698782400@nlr.ar.gov
SUMMARY:Halloween at North Heights
DESCRIPTION:Food\, Fun\, Games\, and Candy!
URL:https://nlr.ar.gov/event/halloween-at-north-heights/
LOCATION:North Heights Community Center\, 4801 Allen Street\, North Little Rock\, Arkansas\, 72118\, United States
CATEGORIES:CIty Event,Parks and Recreation
ATTACH;FMTTYPE=image/jpeg:https://nlr.ar.gov/wp-content/uploads/2023/10/Halloween-at-NHCC-2023-jpg.webp
END:VEVENT
BEGIN:VEVENT
DTSTART;TZID=America/Chicago:20231031T183000
DTEND;TZID=America/Chicago:20231031T200000
DTSTAMP:20260419T230412
CREATED:20231030T185921Z
LAST-MODIFIED:20240829T195606Z
UID:10000283-1698777000-1698782400@nlr.ar.gov
SUMMARY:Halloween at Rose City
DESCRIPTION:Trick or Treat Drive Thru!
URL:https://nlr.ar.gov/event/halloween-at-rose-city/
LOCATION:Rose City Community Center\, 400 Rose Lane\, North Little Rock\, AR\, 72117\, United States
CATEGORIES:CIty Event,Parks and Recreation
ATTACH;FMTTYPE=image/jpeg:https://nlr.ar.gov/wp-content/uploads/2023/10/Halloween-at-RCCC-2023-jpg.webp
END:VEVENT
BEGIN:VEVENT
DTSTART;TZID=America/Chicago:20231103T100000
DTEND;TZID=America/Chicago:20231103T103000
DTSTAMP:20260419T230412
CREATED:20231030T184559Z
LAST-MODIFIED:20231103T141246Z
UID:10000282-1699005600-1699007400@nlr.ar.gov
SUMMARY:Fire Station 8 Ribbon Cutting - Rescheduled for Nov 6
DESCRIPTION:Please join us as we open the NLR Fire Department’s new Station 8 in Burns Park! \n\n\n\nThis event has been rescheduled for Monday\, November 6th at 10 am.
URL:https://nlr.ar.gov/event/fire-station-8-ribbon-cutting/
LOCATION:NLR Fire Station 8\, 501 W Military Drive\, North Little Rock\, Arkansas\, 72118\, United States
CATEGORIES:CIty Event
ATTACH;FMTTYPE=image/jpeg:https://nlr.ar.gov/wp-content/uploads/2023/10/Fire-Station-8-Ribbon-Cutting-20231103-jpg.webp
END:VEVENT
BEGIN:VEVENT
DTSTART;TZID=America/Chicago:20231103T180000
DTEND;TZID=America/Chicago:20231103T200000
DTSTAMP:20260419T230412
CREATED:20231027T183634Z
LAST-MODIFIED:20231027T183635Z
UID:10000281-1699034400-1699041600@nlr.ar.gov
SUMMARY:STEAM Festival
DESCRIPTION:Science\, Technology\, Engineering\, Art & Mathematics – hands on activities for the whole family! \n\n\n\nSTEM Stations – Art Projects – Game Challenges – Food – Music – Much more! \n\n\n\nMuseum of Discovery — Innovation Hub
URL:https://nlr.ar.gov/event/steam-festival/
LOCATION:North Heights Community Center\, 4801 Allen Street\, North Little Rock\, Arkansas\, 72118\, United States
CATEGORIES:Parks and Recreation
ATTACH;FMTTYPE=image/jpeg:https://nlr.ar.gov/wp-content/uploads/2023/10/Edfest2023-jpg.webp
END:VEVENT
END:VCALENDAR