BEGIN:VCALENDAR
VERSION:2.0
PRODID:-//City of North Little Rock - ECPv6.15.17.1//NONSGML v1.0//EN
CALSCALE:GREGORIAN
METHOD:PUBLISH
X-WR-CALNAME:City of North Little Rock
X-ORIGINAL-URL:https://nlr.ar.gov
X-WR-CALDESC:Events for City of North Little Rock
REFRESH-INTERVAL;VALUE=DURATION:PT1H
X-Robots-Tag:noindex
X-PUBLISHED-TTL:PT1H
BEGIN:VTIMEZONE
TZID:America/Chicago
BEGIN:DAYLIGHT
TZOFFSETFROM:-0600
TZOFFSETTO:-0500
TZNAME:CDT
DTSTART:20220313T080000
END:DAYLIGHT
BEGIN:STANDARD
TZOFFSETFROM:-0500
TZOFFSETTO:-0600
TZNAME:CST
DTSTART:20221106T070000
END:STANDARD
BEGIN:DAYLIGHT
TZOFFSETFROM:-0600
TZOFFSETTO:-0500
TZNAME:CDT
DTSTART:20230312T080000
END:DAYLIGHT
BEGIN:STANDARD
TZOFFSETFROM:-0500
TZOFFSETTO:-0600
TZNAME:CST
DTSTART:20231105T070000
END:STANDARD
BEGIN:DAYLIGHT
TZOFFSETFROM:-0600
TZOFFSETTO:-0500
TZNAME:CDT
DTSTART:20240310T080000
END:DAYLIGHT
BEGIN:STANDARD
TZOFFSETFROM:-0500
TZOFFSETTO:-0600
TZNAME:CST
DTSTART:20241103T070000
END:STANDARD
END:VTIMEZONE
BEGIN:VEVENT
DTSTART;TZID=America/Chicago:20230619T000000
DTEND;TZID=America/Chicago:20230619T235959
DTSTAMP:20260419T114059
CREATED:20230525T151439Z
LAST-MODIFIED:20230525T151659Z
UID:10000102-1687132800-1687219199@nlr.ar.gov
SUMMARY:City Closed - Juneteenth
DESCRIPTION:
URL:https://nlr.ar.gov/event/city-closed-juneteenth/
CATEGORIES:Holiday
END:VEVENT
BEGIN:VEVENT
DTSTART;TZID=America/Chicago:20230619T170000
DTEND;TZID=America/Chicago:20230619T173000
DTSTAMP:20260419T114059
CREATED:20231213T175104Z
LAST-MODIFIED:20240829T195833Z
UID:10000325-1687194000-1687195800@nlr.ar.gov
SUMMARY:Parks and Recreation Commission Meeting
DESCRIPTION:The Parks and Recreation Commission meets the third Monday (the following Tuesday if Monday is a holiday) of the month. \n\n\n\nA listing of the scheduled meeting dates\, locations\, and members can be found here.
URL:https://nlr.ar.gov/event/parks-and-recreation-commission-meeting-3/2023-06-19/
LOCATION:North Little Rock Community Center\, 2700 Willow Street\, North Little Rock\, Arkansas\, 72114-2228\, United States
CATEGORIES:CIty Event,Parks and Recreation
END:VEVENT
BEGIN:VEVENT
DTSTART;TZID=America/Chicago:20230704T000000
DTEND;TZID=America/Chicago:20230704T235959
DTSTAMP:20260419T114059
CREATED:20230525T151525Z
LAST-MODIFIED:20230531T201204Z
UID:10000103-1688428800-1688515199@nlr.ar.gov
SUMMARY:City Closed - Independence Day
DESCRIPTION:
URL:https://nlr.ar.gov/event/city-closed-independence-day/
CATEGORIES:Holiday
END:VEVENT
BEGIN:VEVENT
DTSTART;TZID=America/Chicago:20230704T170000
DTEND;TZID=America/Chicago:20230704T220000
DTSTAMP:20260419T114059
CREATED:20230601T164457Z
LAST-MODIFIED:20230606T210707Z
UID:10000104-1688490000-1688508000@nlr.ar.gov
SUMMARY:Celebrate on the Submarine
DESCRIPTION:Arkansas Inland Maritime Museum will be hosting our annual Pops on the River fireworks fundraiser watch party on July 4\, 2023. Tickets are $15 per person and parking passes are $10 (per vehicle – to park inside the sea wall). Tickets can be purchased online using the button below (make an account before selecting number of tickets) or in person during business hours. The museum is located at 120 Riverfront Park Drive in North Little Rock. We have limited seating this year to watch the show from the most patriotic place in Arkansas\, the deck of the USS Razorback Submarine on the Arkansas River. \n\n\n\nWe will have hamburgers/hot dogs\, chips and drinks for sale. We will also offer beer and wine through our donation bar. No outside food or beverages will be permitted. Gates open at 7:00 pm and the fireworks show will begin around 9:30 pm. The parking lot will open late afternoon. \n\n\n\nTickets can be bought online\, be sure to make an account. Tickets are limited. \n\n\n\nTickets are $15 per person and Parking passes are $10 per vehicle. \n\n\n\n\nTickets
URL:https://nlr.ar.gov/event/celebrate-on-the-submarine/
LOCATION:Arkansas Inland Maritime Museum\, 120 Riverfront Park Drive\, North Little Rock\, Arkansas\, 72114\, United States
CATEGORIES:CIty Event,Parks and Recreation
ATTACH;FMTTYPE=image/jpeg:https://nlr.ar.gov/wp-content/uploads/2023/06/DSC_53610-jpg.webp
END:VEVENT
BEGIN:VEVENT
DTSTART;TZID=America/Chicago:20230711T160000
DTEND;TZID=America/Chicago:20230711T170000
DTSTAMP:20260419T114059
CREATED:20230101T210633Z
LAST-MODIFIED:20240829T194318Z
UID:10000059-1689091200-1689094800@nlr.ar.gov
SUMMARY:Planning Commission Meeting
DESCRIPTION:
URL:https://nlr.ar.gov/event/planning-commission-meeting/2023-07-11/
CATEGORIES:CIty Event,General
END:VEVENT
BEGIN:VEVENT
DTSTART;TZID=America/Chicago:20230717T170000
DTEND;TZID=America/Chicago:20230717T173000
DTSTAMP:20260419T114059
CREATED:20231213T175104Z
LAST-MODIFIED:20240829T195833Z
UID:10000326-1689613200-1689615000@nlr.ar.gov
SUMMARY:Parks and Recreation Commission Meeting
DESCRIPTION:The Parks and Recreation Commission meets the third Monday (the following Tuesday if Monday is a holiday) of the month. \n\n\n\nA listing of the scheduled meeting dates\, locations\, and members can be found here.
URL:https://nlr.ar.gov/event/parks-and-recreation-commission-meeting-3/2023-07-17/
LOCATION:North Little Rock Community Center\, 2700 Willow Street\, North Little Rock\, Arkansas\, 72114-2228\, United States
CATEGORIES:CIty Event,Parks and Recreation
END:VEVENT
BEGIN:VEVENT
DTSTART;TZID=America/Chicago:20230718T110000
DTEND;TZID=America/Chicago:20230718T130000
DTSTAMP:20260419T114059
CREATED:20230714T134743Z
LAST-MODIFIED:20240829T195746Z
UID:10000108-1689678000-1689685200@nlr.ar.gov
SUMMARY:Food Truck at the Hays Center
DESCRIPTION:
URL:https://nlr.ar.gov/event/food-truck-at-the-hays-center/
LOCATION:Hays Senior Center\, 401 W Pershing Blvd\, North Little Rock\, Arkansas\, 72114\, United States
CATEGORIES:CIty Event,General,Senior Center
END:VEVENT
BEGIN:VEVENT
DTSTART;TZID=America/Chicago:20230721T083000
DTEND;TZID=America/Chicago:20230721T160000
DTSTAMP:20260419T114059
CREATED:20230713T210147Z
LAST-MODIFIED:20240829T194318Z
UID:10000107-1689928200-1689955200@nlr.ar.gov
SUMMARY:Back to School Immunization Clinic
DESCRIPTION:
URL:https://nlr.ar.gov/event/back-to-school-immunization-clinic/
LOCATION:North Little Rock Health Unit\, 2800 Willow Street\, North Little Rock\, Arkansas\, 72114\, United States
CATEGORIES:CIty Event,General
ATTACH;FMTTYPE=image/jpeg:https://nlr.ar.gov/wp-content/uploads/2023/07/back-to-school-immunizaton-20230721-jpg.webp
END:VEVENT
BEGIN:VEVENT
DTSTART;TZID=America/Chicago:20230721T170000
DTEND;TZID=America/Chicago:20230721T200000
DTSTAMP:20260419T114059
CREATED:20230713T205817Z
LAST-MODIFIED:20230713T205819Z
UID:10000106-1689958800-1689969600@nlr.ar.gov
SUMMARY:Christmas in July
DESCRIPTION:North Little Rock Tourism to host free\, family-friendly “Christmas in July” July 21 \n\n\n\nPhotos with Santa\, kids’ activities and sneak peek at the upcoming holiday season \n\n\n\nTo highlight the upcoming 2023 holiday season\, North Little Rock Tourism will host “Christmas in July” at Argenta Plaza at 510 Main Street in North Little Rock on Friday\, July 21\, from 5 p.m. to 8 p.m. \n\n\n\n“Everyone is invited to cool off with us at Argenta Plaza and enjoy a sneak preview of the upcoming holiday season\,” said Erica Warden\, Director of Events. “Besides the usual exciting lineup\, we will be announcing an event new to North Little Rock that we hope will be a big hit in central Arkansas.” \n\n\n\nThe free\, family-friendly event will feature fun holiday-themed activities\, some of which will involve water – so the public is encouraged to dress accordingly. Santa will take a break from his summer vacation to take photos and make sure children are on the right path to the “nice” list. Topdogcatering will be on hand with hot dogs and other refreshments for purchase. \n\n\n\nThe Christmas in July event will coincide with Third Friday Art Walk in the Argenta Arts District\, a free event during which participating locations display art by local artists and participants can have their passports stamped. Attendees are encouraged to attend both events. The North Little Rock Welcome Center at 600 Main Street\, next to Argenta Plaza\, is a participating location and will be open 5 p.m. to 8 p.m. \n\n\n\nFor more information\, visit https://northlittlerock.org/north-little-rock-tourism-to-host-free-family-friendly-christmas-in-july/ or join the Facebook event.
URL:https://nlr.ar.gov/event/christmas-in-july/
LOCATION:Argenta Plaza\, 510 Main Street\, North Little Rock\, Arkansas\, 72114\, United States
CATEGORIES:CIty Event
ATTACH;FMTTYPE=image/jpeg:https://nlr.ar.gov/wp-content/uploads/2023/07/Christmas-in-July-2023-tn-jpg.webp
END:VEVENT
BEGIN:VEVENT
DTSTART;TZID=America/Chicago:20230722T080000
DTEND;TZID=America/Chicago:20230722T120000
DTSTAMP:20260419T114059
CREATED:20230714T140408Z
LAST-MODIFIED:20240829T195746Z
UID:10000110-1690012800-1690027200@nlr.ar.gov
SUMMARY:Watermelon Crawl
DESCRIPTION:Join the Arkansas Hunger Relief Alliance at Stone Links Park in North Little Rock for a morning of watermelon gleaning (that means hand-gathering crops!) and fun! We need help harvesting\, so put on some sturdy shoes\, grab your sunscreen and join us out in the field! We will also need volunteers to help with registration\, serving breakfast and lunch\, helping with fun watermelon games\, and other lively fun. Please let us know you’re coming and sign up on the Facebook Event page (below).
URL:https://nlr.ar.gov/event/watermelon-crawl/
LOCATION:Stone Links Park\, 110 Hwy 391\, North Little Rock\, Arkansas\, 72117\, United States
CATEGORIES:CIty Event,Parks and Recreation
ATTACH;FMTTYPE=image/jpeg:https://nlr.ar.gov/wp-content/uploads/2023/07/watermelon-crawl-tn-jpg.webp
ORGANIZER;CN="Arkansas Hunger Relief Alliance":MAILTO:info@arhungeralliance.org
END:VEVENT
BEGIN:VEVENT
DTSTART;TZID=America/Chicago:20230722T140000
DTEND;TZID=America/Chicago:20230722T160000
DTSTAMP:20260419T114059
CREATED:20230714T135104Z
LAST-MODIFIED:20230714T135105Z
UID:10000109-1690034400-1690041600@nlr.ar.gov
SUMMARY:Party in the Park
DESCRIPTION:
URL:https://nlr.ar.gov/event/party-in-the-park/
LOCATION:Laman Plaza\, 2801 Orange Street\, North Little Rock\, Arkansas\, 72114\, United States
CATEGORIES:CIty Event,Parks and Recreation
ATTACH;FMTTYPE=image/jpeg:https://nlr.ar.gov/wp-content/uploads/2023/07/Party-in-the-Park-vFinal-jpg.webp
END:VEVENT
BEGIN:VEVENT
DTSTART;TZID=America/Chicago:20230801T110000
DTEND;TZID=America/Chicago:20230801T130000
DTSTAMP:20260419T114059
CREATED:20230727T174314Z
LAST-MODIFIED:20240829T195746Z
UID:10000111-1690887600-1690894800@nlr.ar.gov
SUMMARY:Food Truck at Hays Center
DESCRIPTION:
URL:https://nlr.ar.gov/event/food-truck-at-hays-center/
CATEGORIES:CIty Event,General,Senior Center
END:VEVENT
END:VCALENDAR