BEGIN:VCALENDAR
VERSION:2.0
PRODID:-//City of North Little Rock - ECPv6.15.17.1//NONSGML v1.0//EN
CALSCALE:GREGORIAN
METHOD:PUBLISH
X-ORIGINAL-URL:https://nlr.ar.gov
X-WR-CALDESC:Events for City of North Little Rock
REFRESH-INTERVAL;VALUE=DURATION:PT1H
X-Robots-Tag:noindex
X-PUBLISHED-TTL:PT1H
BEGIN:VTIMEZONE
TZID:America/Chicago
BEGIN:DAYLIGHT
TZOFFSETFROM:-0600
TZOFFSETTO:-0500
TZNAME:CDT
DTSTART:20250309T080000
END:DAYLIGHT
BEGIN:STANDARD
TZOFFSETFROM:-0500
TZOFFSETTO:-0600
TZNAME:CST
DTSTART:20251102T070000
END:STANDARD
BEGIN:DAYLIGHT
TZOFFSETFROM:-0600
TZOFFSETTO:-0500
TZNAME:CDT
DTSTART:20260308T080000
END:DAYLIGHT
BEGIN:STANDARD
TZOFFSETFROM:-0500
TZOFFSETTO:-0600
TZNAME:CST
DTSTART:20261101T070000
END:STANDARD
BEGIN:DAYLIGHT
TZOFFSETFROM:-0600
TZOFFSETTO:-0500
TZNAME:CDT
DTSTART:20270314T080000
END:DAYLIGHT
BEGIN:STANDARD
TZOFFSETFROM:-0500
TZOFFSETTO:-0600
TZNAME:CST
DTSTART:20271107T070000
END:STANDARD
END:VTIMEZONE
BEGIN:VEVENT
DTSTART;TZID=America/Chicago:20260914T180000
DTEND;TZID=America/Chicago:20260914T190000
DTSTAMP:20260420T204615
CREATED:20251125T170449Z
LAST-MODIFIED:20251125T170517Z
UID:10000539-1789408800-1789412400@nlr.ar.gov
SUMMARY:NLR City Council Meeting
DESCRIPTION:The North Little Rock City Council meets the 2nd and 4th Monday (the following Tuesday if Monday is a holiday) at 6:00 pm in the City Hall Council Chambers. \n\n\n\nThe agenda is posted by Wednesday prior to the upcoming meeting. \n\n\n\n\nUpcoming Council Agenda\n\n\n\nCouncil Archives\n\n\n\n\nYou can watch our meetings on City Comcast Channel 11\, AT&T U-Verse Channel 99\, or the North Little Rock Government Facebook page. \n\n\n\nFind out more about your North Little Rock City Council Members here.
URL:https://nlr.ar.gov/event/nlr-city-council-meeting-2/2026-09-14/
LOCATION:North Little Rock City Hall\, 300 Main Street\, North Little Rock\, AR\, 72114\, United States
CATEGORIES:City Council,CIty Event
END:VEVENT
BEGIN:VEVENT
DTSTART;TZID=America/Chicago:20260921T170000
DTEND;TZID=America/Chicago:20260921T173000
DTSTAMP:20260420T204616
CREATED:20251219T181610Z
LAST-MODIFIED:20251219T181621Z
UID:10000562-1790010000-1790011800@nlr.ar.gov
SUMMARY:Parks and Recreation Commission Meeting
DESCRIPTION:The Parks and Recreation Commission meets the third Monday (the following Tuesday if Monday is a holiday) of the month at 5:00 p.m. at North Little Rock Community Center (2700 Willow Street) unless otherwise stated. Contact: 501-791-8538.
URL:https://nlr.ar.gov/event/parks-and-recreation-commission-meeting-24/
LOCATION:North Little Rock Community Center\, 2700 Willow Street\, North Little Rock\, Arkansas\, 72114-2228\, United States
CATEGORIES:Parks and Recreation
END:VEVENT
BEGIN:VEVENT
DTSTART;TZID=America/Chicago:20260928T180000
DTEND;TZID=America/Chicago:20260928T190000
DTSTAMP:20260420T204616
CREATED:20251125T165352Z
LAST-MODIFIED:20251125T165358Z
UID:10000513-1790618400-1790622000@nlr.ar.gov
SUMMARY:NLR City Council Meeting
DESCRIPTION:The North Little Rock City Council meets the 2nd and 4th Monday (the following Tuesday if Monday is a holiday) at 6:00 pm in the City Hall Council Chambers. \n\n\n\nThe agenda is posted by Wednesday prior to the upcoming meeting. \n\n\n\n\nUpcoming Council Agenda\n\n\n\nCouncil Archives\n\n\n\n\nYou can watch our meetings on City Comcast Channel 11\, AT&T U-Verse Channel 99\, or the North Little Rock Government Facebook page. \n\n\n\nFind out more about your North Little Rock City Council Members here.
URL:https://nlr.ar.gov/event/nlr-city-council-meeting/2026-09-28/
LOCATION:North Little Rock City Hall\, 300 Main Street\, North Little Rock\, AR\, 72114\, United States
CATEGORIES:City Council,CIty Event
END:VEVENT
BEGIN:VEVENT
DTSTART;TZID=America/Chicago:20261003T000000
DTEND;TZID=America/Chicago:20261004T235959
DTSTAMP:20260420T204616
CREATED:20260113T190730Z
LAST-MODIFIED:20260420T212221Z
UID:10000566-1790985600-1791158399@nlr.ar.gov
SUMMARY:NLR Airshow 2026
DESCRIPTION:Experience a weekend of nonstop excitement at the North Little Rock Airshow! This 2 day Airshow will immerse you in high-energy aerial demonstrations featuring jaw-dropping aerobatics while allowing you to explore military and civilian aircraft static displays. Do you have a member of the family not intersected in airplanes? The NLR Airshow also features exotic cars racing down the runway\, the crowd-favorite car show\, a FREE action-packed Kids Zone\, vendors\, food trucks\, interactive exhibits and more! It is truly fun for the entire family! \n\n\n\nAs the sun sets Saturday night\, the sky will ignite with illuminated aerobatics\, precision flying\, and dramatic pyrotechnics during the only airshow night performance in Central Arkansas. This one-of-a-kind evening spectacle combines roaring engines\, glowing aircraft\, and fireworks for an unforgettable after-dark experience you won’t see anywhere else in the area! \n\n\n\nLike and Share our Airshow Facebook and Instagram page! \n\n\n\nGet your tickets now at https://nlrairshow.com/
URL:https://nlr.ar.gov/event/nlr-airshow-2026/
LOCATION:NLR Airport\, 8202 Remount Road\, North Little Rock\, Arkansas\, 72118\, United States
CATEGORIES:Airport,CIty Event
ATTACH;FMTTYPE=image/png:https://nlr.ar.gov/wp-content/uploads/2026/01/IMG_0166.png
END:VEVENT
BEGIN:VEVENT
DTSTART;TZID=America/Chicago:20261012T180000
DTEND;TZID=America/Chicago:20261012T190000
DTSTAMP:20260420T204616
CREATED:20251125T170449Z
LAST-MODIFIED:20251125T170517Z
UID:10000540-1791828000-1791831600@nlr.ar.gov
SUMMARY:NLR City Council Meeting
DESCRIPTION:The North Little Rock City Council meets the 2nd and 4th Monday (the following Tuesday if Monday is a holiday) at 6:00 pm in the City Hall Council Chambers. \n\n\n\nThe agenda is posted by Wednesday prior to the upcoming meeting. \n\n\n\n\nUpcoming Council Agenda\n\n\n\nCouncil Archives\n\n\n\n\nYou can watch our meetings on City Comcast Channel 11\, AT&T U-Verse Channel 99\, or the North Little Rock Government Facebook page. \n\n\n\nFind out more about your North Little Rock City Council Members here.
URL:https://nlr.ar.gov/event/nlr-city-council-meeting-2/2026-10-12/
LOCATION:North Little Rock City Hall\, 300 Main Street\, North Little Rock\, AR\, 72114\, United States
CATEGORIES:City Council,CIty Event
END:VEVENT
BEGIN:VEVENT
DTSTART;TZID=America/Chicago:20261019T170000
DTEND;TZID=America/Chicago:20261019T173000
DTSTAMP:20260420T204616
CREATED:20251219T181625Z
LAST-MODIFIED:20251219T181634Z
UID:10000563-1792429200-1792431000@nlr.ar.gov
SUMMARY:Parks and Recreation Commission Meeting
DESCRIPTION:The Parks and Recreation Commission meets the third Monday (the following Tuesday if Monday is a holiday) of the month at 5:00 p.m. at North Little Rock Community Center (2700 Willow Street) unless otherwise stated. Contact: 501-791-8538.
URL:https://nlr.ar.gov/event/parks-and-recreation-commission-meeting-25/
LOCATION:North Little Rock Community Center\, 2700 Willow Street\, North Little Rock\, Arkansas\, 72114-2228\, United States
CATEGORIES:Parks and Recreation
END:VEVENT
BEGIN:VEVENT
DTSTART;TZID=America/Chicago:20261026T180000
DTEND;TZID=America/Chicago:20261026T190000
DTSTAMP:20260420T204616
CREATED:20251125T165352Z
LAST-MODIFIED:20251125T165358Z
UID:10000514-1793037600-1793041200@nlr.ar.gov
SUMMARY:NLR City Council Meeting
DESCRIPTION:The North Little Rock City Council meets the 2nd and 4th Monday (the following Tuesday if Monday is a holiday) at 6:00 pm in the City Hall Council Chambers. \n\n\n\nThe agenda is posted by Wednesday prior to the upcoming meeting. \n\n\n\n\nUpcoming Council Agenda\n\n\n\nCouncil Archives\n\n\n\n\nYou can watch our meetings on City Comcast Channel 11\, AT&T U-Verse Channel 99\, or the North Little Rock Government Facebook page. \n\n\n\nFind out more about your North Little Rock City Council Members here.
URL:https://nlr.ar.gov/event/nlr-city-council-meeting/2026-10-26/
LOCATION:North Little Rock City Hall\, 300 Main Street\, North Little Rock\, AR\, 72114\, United States
CATEGORIES:City Council,CIty Event
END:VEVENT
BEGIN:VEVENT
DTSTART;TZID=America/Chicago:20261109T180000
DTEND;TZID=America/Chicago:20261109T190000
DTSTAMP:20260420T204616
CREATED:20251125T170449Z
LAST-MODIFIED:20251125T170517Z
UID:10000541-1794247200-1794250800@nlr.ar.gov
SUMMARY:NLR City Council Meeting
DESCRIPTION:The North Little Rock City Council meets the 2nd and 4th Monday (the following Tuesday if Monday is a holiday) at 6:00 pm in the City Hall Council Chambers. \n\n\n\nThe agenda is posted by Wednesday prior to the upcoming meeting. \n\n\n\n\nUpcoming Council Agenda\n\n\n\nCouncil Archives\n\n\n\n\nYou can watch our meetings on City Comcast Channel 11\, AT&T U-Verse Channel 99\, or the North Little Rock Government Facebook page. \n\n\n\nFind out more about your North Little Rock City Council Members here.
URL:https://nlr.ar.gov/event/nlr-city-council-meeting-2/2026-11-09/
LOCATION:North Little Rock City Hall\, 300 Main Street\, North Little Rock\, AR\, 72114\, United States
CATEGORIES:City Council,CIty Event
END:VEVENT
BEGIN:VEVENT
DTSTART;TZID=America/Chicago:20261111T000000
DTEND;TZID=America/Chicago:20261111T235959
DTSTAMP:20260420T204616
CREATED:20251217T172907Z
LAST-MODIFIED:20251217T173012Z
UID:10000551-1794355200-1794441599@nlr.ar.gov
SUMMARY:City Closed - Veteran's Day
DESCRIPTION:City of North Little Rock offices will be closed on Wednesday\, November 11 in observance of Veterans Day 2026
URL:https://nlr.ar.gov/event/city-closed-veterans-day-4/
CATEGORIES:CIty Event,Holiday
END:VEVENT
BEGIN:VEVENT
DTSTART;TZID=America/Chicago:20261116T170000
DTEND;TZID=America/Chicago:20261116T173000
DTSTAMP:20260420T204616
CREATED:20251219T181644Z
LAST-MODIFIED:20251219T181701Z
UID:10000564-1794848400-1794850200@nlr.ar.gov
SUMMARY:Parks and Recreation Commission Meeting
DESCRIPTION:The Parks and Recreation Commission meets the third Monday (the following Tuesday if Monday is a holiday) of the month at 5:00 p.m. at North Little Rock Community Center (2700 Willow Street) unless otherwise stated. Contact: 501-791-8538.
URL:https://nlr.ar.gov/event/parks-and-recreation-commission-meeting-26/
LOCATION:North Little Rock Community Center\, 2700 Willow Street\, North Little Rock\, Arkansas\, 72114-2228\, United States
CATEGORIES:Parks and Recreation
END:VEVENT
BEGIN:VEVENT
DTSTART;TZID=America/Chicago:20261123T180000
DTEND;TZID=America/Chicago:20261123T190000
DTSTAMP:20260420T204616
CREATED:20251125T165352Z
LAST-MODIFIED:20251125T165358Z
UID:10000515-1795456800-1795460400@nlr.ar.gov
SUMMARY:NLR City Council Meeting
DESCRIPTION:The North Little Rock City Council meets the 2nd and 4th Monday (the following Tuesday if Monday is a holiday) at 6:00 pm in the City Hall Council Chambers. \n\n\n\nThe agenda is posted by Wednesday prior to the upcoming meeting. \n\n\n\n\nUpcoming Council Agenda\n\n\n\nCouncil Archives\n\n\n\n\nYou can watch our meetings on City Comcast Channel 11\, AT&T U-Verse Channel 99\, or the North Little Rock Government Facebook page. \n\n\n\nFind out more about your North Little Rock City Council Members here.
URL:https://nlr.ar.gov/event/nlr-city-council-meeting/2026-11-23/
LOCATION:North Little Rock City Hall\, 300 Main Street\, North Little Rock\, AR\, 72114\, United States
CATEGORIES:City Council,CIty Event
END:VEVENT
BEGIN:VEVENT
DTSTART;TZID=America/Chicago:20261126T000000
DTEND;TZID=America/Chicago:20261127T235959
DTSTAMP:20260420T204616
CREATED:20251217T183721Z
LAST-MODIFIED:20251217T183730Z
UID:10000552-1795651200-1795823999@nlr.ar.gov
SUMMARY:City Closed - Thanksgiving
DESCRIPTION:City offices are closed in observance of the holiday.
URL:https://nlr.ar.gov/event/city-closed-thanksgiving-4/
CATEGORIES:CIty Event,Holiday,Holiday 2026
END:VEVENT
BEGIN:VEVENT
DTSTART;TZID=America/Chicago:20261214T180000
DTEND;TZID=America/Chicago:20261214T190000
DTSTAMP:20260420T204616
CREATED:20251125T170449Z
LAST-MODIFIED:20251125T170517Z
UID:10000542-1797271200-1797274800@nlr.ar.gov
SUMMARY:NLR City Council Meeting
DESCRIPTION:The North Little Rock City Council meets the 2nd and 4th Monday (the following Tuesday if Monday is a holiday) at 6:00 pm in the City Hall Council Chambers. \n\n\n\nThe agenda is posted by Wednesday prior to the upcoming meeting. \n\n\n\n\nUpcoming Council Agenda\n\n\n\nCouncil Archives\n\n\n\n\nYou can watch our meetings on City Comcast Channel 11\, AT&T U-Verse Channel 99\, or the North Little Rock Government Facebook page. \n\n\n\nFind out more about your North Little Rock City Council Members here.
URL:https://nlr.ar.gov/event/nlr-city-council-meeting-2/2026-12-14/
LOCATION:North Little Rock City Hall\, 300 Main Street\, North Little Rock\, AR\, 72114\, United States
CATEGORIES:City Council,CIty Event
END:VEVENT
BEGIN:VEVENT
DTSTART;TZID=America/Chicago:20261221T170000
DTEND;TZID=America/Chicago:20261221T173000
DTSTAMP:20260420T204616
CREATED:20251219T181657Z
LAST-MODIFIED:20251219T181710Z
UID:10000565-1797872400-1797874200@nlr.ar.gov
SUMMARY:Parks and Recreation Commission Meeting
DESCRIPTION:The Parks and Recreation Commission meets the third Monday (the following Tuesday if Monday is a holiday) of the month at 5:00 p.m. at North Little Rock Community Center (2700 Willow Street) unless otherwise stated. Contact: 501-791-8538.
URL:https://nlr.ar.gov/event/parks-and-recreation-commission-meeting-27/
LOCATION:North Little Rock Community Center\, 2700 Willow Street\, North Little Rock\, Arkansas\, 72114-2228\, United States
CATEGORIES:Parks and Recreation
END:VEVENT
BEGIN:VEVENT
DTSTART;TZID=America/Chicago:20261224T000000
DTEND;TZID=America/Chicago:20261225T235959
DTSTAMP:20260420T204616
CREATED:20251217T183925Z
LAST-MODIFIED:20251217T183933Z
UID:10000553-1798070400-1798243199@nlr.ar.gov
SUMMARY:City Closed - Christmas
DESCRIPTION:City offices are closed in observance of the holiday.
URL:https://nlr.ar.gov/event/city-closed-christmas-3/
CATEGORIES:CIty Event,Holiday,Holiday 2026
END:VEVENT
BEGIN:VEVENT
DTSTART;TZID=America/Chicago:20261228T180000
DTEND;TZID=America/Chicago:20261228T190000
DTSTAMP:20260420T204616
CREATED:20251125T165352Z
LAST-MODIFIED:20251125T165358Z
UID:10000516-1798480800-1798484400@nlr.ar.gov
SUMMARY:NLR City Council Meeting
DESCRIPTION:The North Little Rock City Council meets the 2nd and 4th Monday (the following Tuesday if Monday is a holiday) at 6:00 pm in the City Hall Council Chambers. \n\n\n\nThe agenda is posted by Wednesday prior to the upcoming meeting. \n\n\n\n\nUpcoming Council Agenda\n\n\n\nCouncil Archives\n\n\n\n\nYou can watch our meetings on City Comcast Channel 11\, AT&T U-Verse Channel 99\, or the North Little Rock Government Facebook page. \n\n\n\nFind out more about your North Little Rock City Council Members here.
URL:https://nlr.ar.gov/event/nlr-city-council-meeting/2026-12-28/
LOCATION:North Little Rock City Hall\, 300 Main Street\, North Little Rock\, AR\, 72114\, United States
CATEGORIES:City Council,CIty Event
END:VEVENT
END:VCALENDAR