BEGIN:VCALENDAR
VERSION:2.0
PRODID:-//City of North Little Rock - ECPv6.15.17.1//NONSGML v1.0//EN
CALSCALE:GREGORIAN
METHOD:PUBLISH
X-WR-CALNAME:City of North Little Rock
X-ORIGINAL-URL:https://nlr.ar.gov
X-WR-CALDESC:Events for City of North Little Rock
REFRESH-INTERVAL;VALUE=DURATION:PT1H
X-Robots-Tag:noindex
X-PUBLISHED-TTL:PT1H
BEGIN:VTIMEZONE
TZID:America/Chicago
BEGIN:DAYLIGHT
TZOFFSETFROM:-0600
TZOFFSETTO:-0500
TZNAME:CDT
DTSTART:20230312T080000
END:DAYLIGHT
BEGIN:STANDARD
TZOFFSETFROM:-0500
TZOFFSETTO:-0600
TZNAME:CST
DTSTART:20231105T070000
END:STANDARD
BEGIN:DAYLIGHT
TZOFFSETFROM:-0600
TZOFFSETTO:-0500
TZNAME:CDT
DTSTART:20240310T080000
END:DAYLIGHT
BEGIN:STANDARD
TZOFFSETFROM:-0500
TZOFFSETTO:-0600
TZNAME:CST
DTSTART:20241103T070000
END:STANDARD
BEGIN:DAYLIGHT
TZOFFSETFROM:-0600
TZOFFSETTO:-0500
TZNAME:CDT
DTSTART:20250309T080000
END:DAYLIGHT
BEGIN:STANDARD
TZOFFSETFROM:-0500
TZOFFSETTO:-0600
TZNAME:CST
DTSTART:20251102T070000
END:STANDARD
END:VTIMEZONE
BEGIN:VEVENT
DTSTART;TZID=America/Chicago:20241031T173000
DTEND;TZID=America/Chicago:20241031T193000
DTSTAMP:20260425T115015
CREATED:20241021T171719Z
LAST-MODIFIED:20241021T171720Z
UID:10000425-1730395800-1730403000@nlr.ar.gov
SUMMARY:North Heights Trunk or Treat Extravaganza
DESCRIPTION:Music – Food – Candy – Spooky Maze – Hot dogs – Cotton Candy
URL:https://nlr.ar.gov/event/north-heights-trunk-or-treat-extravaganza/
LOCATION:North Heights Community Center\, 4801 Allen Street\, North Little Rock\, Arkansas\, 72118\, United States
CATEGORIES:Parks and Recreation
ATTACH;FMTTYPE=image/jpeg:https://nlr.ar.gov/wp-content/uploads/2024/10/nhcc-halloween-2024-scaled.webp
END:VEVENT
BEGIN:VEVENT
DTSTART;TZID=America/Chicago:20241031T173000
DTEND;TZID=America/Chicago:20241031T193000
DTSTAMP:20260425T115015
CREATED:20241021T164204Z
LAST-MODIFIED:20241021T164206Z
UID:10000423-1730395800-1730403000@nlr.ar.gov
SUMMARY:Glenview Spooky Fun for All
DESCRIPTION:Bounce House – Costume Contest – Monster Mash Dance – Trunk or Treat – Spooky Fun Games – Food – Treat Stations
URL:https://nlr.ar.gov/event/glenview-spooky-fun-for-all/
LOCATION:Glenview Community Center\, 4800 E 19th Street\, North Little Rock\, Arkansas\, 72117\, United States
CATEGORIES:Parks and Recreation
ATTACH;FMTTYPE=image/png:https://nlr.ar.gov/wp-content/uploads/2024/10/GVCC-2024-halloween-1.png
END:VEVENT
BEGIN:VEVENT
DTSTART;TZID=America/Chicago:20241031T173000
DTEND;TZID=America/Chicago:20241031T200000
DTSTAMP:20260425T115015
CREATED:20241021T163902Z
LAST-MODIFIED:20241021T163904Z
UID:10000422-1730395800-1730404800@nlr.ar.gov
SUMMARY:Sherman Park Trunk or Treat and Haunted Trail
DESCRIPTION:Candy – Popcorn – Hayride – Costume Contest – and more
URL:https://nlr.ar.gov/event/sherman-park-trunk-or-treat-and-haunted-trail/
LOCATION:Sherman Park Community Center\, 624 Beech Street\, North Little Rock\, AR\, 72117\, United States
CATEGORIES:Parks and Recreation
ATTACH;FMTTYPE=image/png:https://nlr.ar.gov/wp-content/uploads/2024/10/spcc-Boo-to-cancer-hayride.png
END:VEVENT
BEGIN:VEVENT
DTSTART;TZID=America/Chicago:20241031T180000
DTEND;TZID=America/Chicago:20241031T200000
DTSTAMP:20260425T115015
CREATED:20241021T164448Z
LAST-MODIFIED:20241021T164449Z
UID:10000424-1730397600-1730404800@nlr.ar.gov
SUMMARY:Rose City Trunk or Treat
DESCRIPTION:Food – Fun Games – Prizes
URL:https://nlr.ar.gov/event/rose-city-trunk-or-treat/
LOCATION:Rose City Community Center\, 400 Rose Lane\, North Little Rock\, AR\, 72117\, United States
CATEGORIES:Parks and Recreation
ATTACH;FMTTYPE=image/jpeg:https://nlr.ar.gov/wp-content/uploads/2024/10/Halloween-RCCC-202410-scaled.webp
END:VEVENT
BEGIN:VEVENT
DTSTART;TZID=America/Chicago:20241102T140000
DTEND;TZID=America/Chicago:20241102T170000
DTSTAMP:20260425T115015
CREATED:20241008T201710Z
LAST-MODIFIED:20241008T201712Z
UID:10000418-1730556000-1730566800@nlr.ar.gov
SUMMARY:Youth Basketball Workout
DESCRIPTION:NLRPR Youth Basketball Program is offering two FREE basketball workouts to get youth athletes ready for this season’s league. The workouts will be on: Saturday\, October 12th\, from 9:30 am – 1:00 pm at Rose City Community Center and on November 2nd\, from 2 – 5 pm at Glenview Community Center. Parents will also be able to register for the 2024-2025 NLRPR Youth Basketball League.
URL:https://nlr.ar.gov/event/youth-basketball-workout-2/
LOCATION:Glenview Community Center\, 4800 E 19th Street\, North Little Rock\, Arkansas\, 72117\, United States
CATEGORIES:Parks and Recreation
ATTACH;FMTTYPE=image/png:https://nlr.ar.gov/wp-content/uploads/2024/10/YBBworkouts.png
END:VEVENT
BEGIN:VEVENT
DTSTART;TZID=America/Chicago:20241107T180000
DTEND;TZID=America/Chicago:20241107T203000
DTSTAMP:20260425T115015
CREATED:20241031T140624Z
LAST-MODIFIED:20241031T140717Z
UID:10000426-1731002400-1731011400@nlr.ar.gov
SUMMARY:STEM Fest 2024 at NHCC
DESCRIPTION:STEM Fest 2024 is educational fun for the entire family!   \n\n\n\nJoin us on November 7th at North Heights Community Center from 6:00 p.m. to 8:30 p.m. Come explore\, discover\, and celebrate the world of science\, technology\, engineering\, and mathematics. \n\n\n\nFor more info\, contact Ernest Peoples at NLR Program Unit\, 501-791-8545.
URL:https://nlr.ar.gov/event/stem-fest-2024-at-nhcc/
LOCATION:North Heights Community Center\, 4801 Allen Street\, North Little Rock\, Arkansas\, 72118\, United States
CATEGORIES:CIty Event,Parks and Recreation
ATTACH;FMTTYPE=image/jpeg:https://nlr.ar.gov/wp-content/uploads/2024/10/STEM-Fest-at-nhcc-20241107-jpg.webp
END:VEVENT
BEGIN:VEVENT
DTSTART;TZID=America/Chicago:20241111T000000
DTEND;TZID=America/Chicago:20241111T235959
DTSTAMP:20260425T115015
CREATED:20231213T170647Z
LAST-MODIFIED:20231213T170649Z
UID:10000303-1731283200-1731369599@nlr.ar.gov
SUMMARY:City Closed - Veteran's Day
DESCRIPTION:City offices are closed in observance of the holiday.
URL:https://nlr.ar.gov/event/city-closed-veterans-day-2/
CATEGORIES:Holiday
END:VEVENT
BEGIN:VEVENT
DTSTART;TZID=America/Chicago:20241112T160000
DTEND;TZID=America/Chicago:20241112T170000
DTSTAMP:20260425T115015
CREATED:20230101T210633Z
LAST-MODIFIED:20240829T194318Z
UID:10000075-1731427200-1731430800@nlr.ar.gov
SUMMARY:Planning Commission Meeting
DESCRIPTION:
URL:https://nlr.ar.gov/event/planning-commission-meeting/2024-11-12/
CATEGORIES:CIty Event,General
END:VEVENT
BEGIN:VEVENT
DTSTART;TZID=America/Chicago:20241112T180000
DTEND;TZID=America/Chicago:20241112T190000
DTSTAMP:20260425T115015
CREATED:20241105T201158Z
LAST-MODIFIED:20241105T201215Z
UID:10000238-1731434400-1731438000@nlr.ar.gov
SUMMARY:City Council Meeting
DESCRIPTION:The North Little Rock City Council meets the 2nd and 4th Monday at 6:00 pm in the City Hall Council Chambers. \n\n\n\nThe agenda is posted by Wednesday prior to the upcoming meeting. \n\n\n\n\nUpcoming Council Agenda\n\n\n\nCouncil Archives\n\n\n\n\nYou can watch our meetings on City Comcast Channel 11\, AT&T U-Verse Channel 99\, or the North Little Rock Government Facebook page. \n\n\n\nFind out more about your North Little Rock City Council Members here.
URL:https://nlr.ar.gov/event/city-council-meeting-9/
LOCATION:NLR City Hall Council Chambers\, 300 Main Street\, North Little Rock\, Arkansas\, 72114\, United States
CATEGORIES:City Council
END:VEVENT
BEGIN:VEVENT
DTSTART;TZID=America/Chicago:20241114T180000
DTEND;TZID=America/Chicago:20241114T190000
DTSTAMP:20260425T115015
CREATED:20241007T182303Z
LAST-MODIFIED:20241112T211624Z
UID:10000416-1731607200-1731610800@nlr.ar.gov
SUMMARY:Mayor's Holiday Tree Lighting
DESCRIPTION:
URL:https://nlr.ar.gov/event/mayors-holiday-tree-lighting/
LOCATION:Argenta Plaza\, 510 Main Street\, North Little Rock\, Arkansas\, 72114\, United States
CATEGORIES:CIty Event,Holiday 2024
ATTACH;FMTTYPE=image/jpeg:https://nlr.ar.gov/wp-content/uploads/2024/10/2024-Holiday-Tree-Lightingb-scaled.webp
END:VEVENT
BEGIN:VEVENT
DTSTART;TZID=America/Chicago:20241118T170000
DTEND;TZID=America/Chicago:20241118T180000
DTSTAMP:20260425T115015
CREATED:20241114T181936Z
LAST-MODIFIED:20241115T143745Z
UID:10000342-1731949200-1731952800@nlr.ar.gov
SUMMARY:Parks and Recreation Commission Meeting
DESCRIPTION:The Parks and Recreation Commission meets the third Monday (the following Tuesday if Monday is a holiday) of the month. \n\n\n\nA listing of the scheduled meeting dates\, locations\, and members can be found here.
URL:https://nlr.ar.gov/event/parks-and-recreation-commission-meeting-13/
LOCATION:North Little Rock Community Center\, 2700 Willow Street\, North Little Rock\, Arkansas\, 72114-2228\, United States
CATEGORIES:CIty Event,Parks and Recreation
END:VEVENT
BEGIN:VEVENT
DTSTART;TZID=America/Chicago:20241123T150000
DTEND;TZID=America/Chicago:20241123T190000
DTSTAMP:20260425T115015
CREATED:20241118T215654Z
LAST-MODIFIED:20241118T215655Z
UID:10000428-1732374000-1732388400@nlr.ar.gov
SUMMARY:Northern Holiday Lights Festival
DESCRIPTION:The Seventh Annual Northern Lights Holiday Festival will be on Saturday\, November 23\, 2024\, from 3 p.m. to 7 p.m. at Argenta Plaza at 510 Main St. in North Little Rock. North Little Rock’s Northern Lights event is a magical winter celebration that transforms the Argenta Arts District into a festive wonderland. \n\n\n\nHeld annually\, this holiday event features stunning light displays\, live entertainment\, holiday markets\, and family-friendly activities. Visitors can enjoy the dazzling lights\, listen to carolers\, take photos with Santa\, and savor seasonal treats from local vendors. The event aims to bring the community together in the spirit of the holidays\, creating a warm and joyful atmosphere that enchants residents and visitors alike. A free holiday event for all ages\, Northern Lights will have a holiday market; photos with Santa (Black Santa ARK LLC); live music by Bad Habit; a special guest DJ; and North Little Rock’s 38-foot Christmas tree. Food trucks as well as Flyway Brewing will have food and drinks available for purchase. For mixed drinks or more food options\, restaurants and bars within the Argenta Outdoor Dining District allow patrons to order to-go beverages to consume within dining district boundaries\, which include Argenta Plaza.
URL:https://nlr.ar.gov/event/northern-holiday-lights-festival/
LOCATION:Argenta Plaza\, 510 Main Street\, North Little Rock\, Arkansas\, 72114\, United States
CATEGORIES:CIty Event,Holiday 2024
ATTACH;FMTTYPE=image/jpeg:https://nlr.ar.gov/wp-content/uploads/2024/11/nlrtourism-northern-lights-20241123-jpg.webp
END:VEVENT
BEGIN:VEVENT
DTSTART;TZID=America/Chicago:20241125T180000
DTEND;TZID=America/Chicago:20241125T190000
DTSTAMP:20260425T115015
CREATED:20230912T141353Z
LAST-MODIFIED:20250327T133309Z
UID:10000189-1732557600-1732561200@nlr.ar.gov
SUMMARY:City Council Meeting
DESCRIPTION:The North Little Rock City Council meets the 2nd and 4th Monday at 6:00 pm in the City Hall Council Chambers. \n\n\n\nThe agenda is posted by Wednesday prior to the upcoming meeting. \n\n\n\n\nUpcoming Council Agenda\n\n\n\nCouncil Archives\n\n\n\n\nYou can watch our meetings on City Comcast Channel 11\, AT&T U-Verse Channel 99\, or the North Little Rock Government Facebook page. \n\n\n\nFind out more about your North Little Rock City Council Members here.
URL:https://nlr.ar.gov/event/city-council-meeting-3/2024-11-25/
LOCATION:NLR City Hall Council Chambers\, 300 Main Street\, North Little Rock\, Arkansas\, 72114\, United States
CATEGORIES:City Council,CIty Event
END:VEVENT
BEGIN:VEVENT
DTSTART;TZID=America/Chicago:20241128T000000
DTEND;TZID=America/Chicago:20241129T235959
DTSTAMP:20260425T115015
CREATED:20231213T170752Z
LAST-MODIFIED:20241121T185910Z
UID:10000304-1732752000-1732924799@nlr.ar.gov
SUMMARY:City Closed - Thanksgiving
DESCRIPTION:City offices are closed in observance of the holiday.
URL:https://nlr.ar.gov/event/city-closed-thanksgiving-2/
CATEGORIES:Holiday,Holiday 2024
END:VEVENT
END:VCALENDAR