BEGIN:VCALENDAR
VERSION:2.0
PRODID:-//City of North Little Rock - ECPv6.15.17.1//NONSGML v1.0//EN
CALSCALE:GREGORIAN
METHOD:PUBLISH
X-WR-CALNAME:City of North Little Rock
X-ORIGINAL-URL:https://nlr.ar.gov
X-WR-CALDESC:Events for City of North Little Rock
REFRESH-INTERVAL;VALUE=DURATION:PT1H
X-Robots-Tag:noindex
X-PUBLISHED-TTL:PT1H
BEGIN:VTIMEZONE
TZID:America/Chicago
BEGIN:DAYLIGHT
TZOFFSETFROM:-0600
TZOFFSETTO:-0500
TZNAME:CDT
DTSTART:20230312T080000
END:DAYLIGHT
BEGIN:STANDARD
TZOFFSETFROM:-0500
TZOFFSETTO:-0600
TZNAME:CST
DTSTART:20231105T070000
END:STANDARD
BEGIN:DAYLIGHT
TZOFFSETFROM:-0600
TZOFFSETTO:-0500
TZNAME:CDT
DTSTART:20240310T080000
END:DAYLIGHT
BEGIN:STANDARD
TZOFFSETFROM:-0500
TZOFFSETTO:-0600
TZNAME:CST
DTSTART:20241103T070000
END:STANDARD
BEGIN:DAYLIGHT
TZOFFSETFROM:-0600
TZOFFSETTO:-0500
TZNAME:CDT
DTSTART:20250309T080000
END:DAYLIGHT
BEGIN:STANDARD
TZOFFSETFROM:-0500
TZOFFSETTO:-0600
TZNAME:CST
DTSTART:20251102T070000
END:STANDARD
END:VTIMEZONE
BEGIN:VEVENT
DTSTART;TZID=America/Chicago:20240116T170000
DTEND;TZID=America/Chicago:20240116T173000
DTSTAMP:20260420T022721
CREATED:20231213T175129Z
LAST-MODIFIED:20240829T195512Z
UID:10000332-1705424400-1705426200@nlr.ar.gov
SUMMARY:Parks and Recreation Commission Meeting
DESCRIPTION:NOTE: This meeting has been cancelled due to inclement weather. Our next meeting will be Tuesday\, February 20\, 2024. \n\n\n\nThe Parks and Recreation Commission meets the third Monday (the following Tuesday if Monday is a holiday) of the month. \n\n\n\nA listing of the scheduled meeting dates\, locations\, and members can be found here.
URL:https://nlr.ar.gov/event/parks-and-recreation-commission-meeting-4/
LOCATION:North Little Rock Community Center\, 2700 Willow Street\, North Little Rock\, Arkansas\, 72114-2228\, United States
CATEGORIES:CIty Event,Parks and Recreation
END:VEVENT
BEGIN:VEVENT
DTSTART;TZID=America/Chicago:20240120T100000
DTEND;TZID=America/Chicago:20240120T120000
DTSTAMP:20260420T022721
CREATED:20240112T213820Z
LAST-MODIFIED:20240829T195421Z
UID:10000358-1705744800-1705752000@nlr.ar.gov
SUMMARY:Fundamentals of Community Gardening Workshop
DESCRIPTION:Don’t miss this upcoming workshop. Come out and learn how to garden with the pros! \n\n\n\n\nParticipants will learn how to successfully build a community garden.\n\n\n\nInformation on how to receive free seeds\, plants\, materials and raised beds will be given.\n\n\n\nGardening 101\n\n\n\nMaintenance Tips\n\n\n\n\n\nRSVP with Katrina
URL:https://nlr.ar.gov/event/fundamentals-of-community-gardening-workshop/
LOCATION:Glenview Community Center\, 4800 E 19th Street\, North Little Rock\, Arkansas\, 72117\, United States
CATEGORIES:CIty Event,Community Gardens,Parks and Recreation
ATTACH;FMTTYPE=image/jpeg:https://nlr.ar.gov/wp-content/uploads/2024/01/Community-Garden-Workshop-20240120-jpg.webp
END:VEVENT
BEGIN:VEVENT
DTSTART;TZID=America/Chicago:20240122T180000
DTEND;TZID=America/Chicago:20240122T190000
DTSTAMP:20260420T022721
CREATED:20230912T141353Z
LAST-MODIFIED:20250327T133309Z
UID:10000179-1705946400-1705950000@nlr.ar.gov
SUMMARY:City Council Meeting
DESCRIPTION:The North Little Rock City Council meets the 2nd and 4th Monday at 6:00 pm in the City Hall Council Chambers. \n\n\n\nThe agenda is posted by Wednesday prior to the upcoming meeting. \n\n\n\n\nUpcoming Council Agenda\n\n\n\nCouncil Archives\n\n\n\n\nYou can watch our meetings on City Comcast Channel 11\, AT&T U-Verse Channel 99\, or the North Little Rock Government Facebook page. \n\n\n\nFind out more about your North Little Rock City Council Members here.
URL:https://nlr.ar.gov/event/city-council-meeting-3/2024-01-22/
LOCATION:NLR City Hall Council Chambers\, 300 Main Street\, North Little Rock\, Arkansas\, 72114\, United States
CATEGORIES:City Council,CIty Event
END:VEVENT
END:VCALENDAR