BEGIN:VCALENDAR
VERSION:2.0
PRODID:-//City of North Little Rock - ECPv6.15.17.1//NONSGML v1.0//EN
CALSCALE:GREGORIAN
METHOD:PUBLISH
X-WR-CALNAME:City of North Little Rock
X-ORIGINAL-URL:https://nlr.ar.gov
X-WR-CALDESC:Events for City of North Little Rock
REFRESH-INTERVAL;VALUE=DURATION:PT1H
X-Robots-Tag:noindex
X-PUBLISHED-TTL:PT1H
BEGIN:VTIMEZONE
TZID:America/Chicago
BEGIN:DAYLIGHT
TZOFFSETFROM:-0600
TZOFFSETTO:-0500
TZNAME:CDT
DTSTART:20220313T080000
END:DAYLIGHT
BEGIN:STANDARD
TZOFFSETFROM:-0500
TZOFFSETTO:-0600
TZNAME:CST
DTSTART:20221106T070000
END:STANDARD
BEGIN:DAYLIGHT
TZOFFSETFROM:-0600
TZOFFSETTO:-0500
TZNAME:CDT
DTSTART:20230312T080000
END:DAYLIGHT
BEGIN:STANDARD
TZOFFSETFROM:-0500
TZOFFSETTO:-0600
TZNAME:CST
DTSTART:20231105T070000
END:STANDARD
BEGIN:DAYLIGHT
TZOFFSETFROM:-0600
TZOFFSETTO:-0500
TZNAME:CDT
DTSTART:20240310T080000
END:DAYLIGHT
BEGIN:STANDARD
TZOFFSETFROM:-0500
TZOFFSETTO:-0600
TZNAME:CST
DTSTART:20241103T070000
END:STANDARD
END:VTIMEZONE
BEGIN:VEVENT
DTSTART;TZID=America/Chicago:20230428T000000
DTEND;TZID=America/Chicago:20230501T235959
DTSTAMP:20260419T142138
CREATED:20230427T161710Z
LAST-MODIFIED:20240829T194127Z
UID:10000083-1682640000-1682985599@nlr.ar.gov
SUMMARY:Celebrate 501 Day
DESCRIPTION:What is 501 Day? \n\n\n\nTo celebrate all things “local\,” Arkansas cities and organizations located within the 501 area code are teaming up for an area-wide celebration on May 1\, known as “501 Day.” In 2021 we had a blast with community events and deals at local businesses throughout North Little Rock (see the 2021 photo gallery). We hope you’ll join us in North Little Rock for special events and discounts all weekend! \n\n\n\n\nView Activities
URL:https://nlr.ar.gov/event/celebrate-501-day/
CATEGORIES:CIty Event
ATTACH;FMTTYPE=image/jpeg:https://nlr.ar.gov/wp-content/uploads/2023/04/501Day2023-jpg.webp
END:VEVENT
BEGIN:VEVENT
DTSTART;TZID=America/Chicago:20230417T170000
DTEND;TZID=America/Chicago:20230417T173000
DTSTAMP:20260419T142138
CREATED:20231213T175104Z
LAST-MODIFIED:20240829T195833Z
UID:10000323-1681750800-1681752600@nlr.ar.gov
SUMMARY:Parks and Recreation Commission Meeting
DESCRIPTION:The Parks and Recreation Commission meets the third Monday (the following Tuesday if Monday is a holiday) of the month. \n\n\n\nA listing of the scheduled meeting dates\, locations\, and members can be found here.
URL:https://nlr.ar.gov/event/parks-and-recreation-commission-meeting-3/2023-04-17/
LOCATION:North Little Rock Community Center\, 2700 Willow Street\, North Little Rock\, Arkansas\, 72114-2228\, United States
CATEGORIES:CIty Event,Parks and Recreation
END:VEVENT
BEGIN:VEVENT
DTSTART;TZID=America/Chicago:20230411T160000
DTEND;TZID=America/Chicago:20230411T170000
DTSTAMP:20260419T142138
CREATED:20230101T210633Z
LAST-MODIFIED:20240829T194318Z
UID:10000056-1681228800-1681232400@nlr.ar.gov
SUMMARY:Planning Commission Meeting
DESCRIPTION:
URL:https://nlr.ar.gov/event/planning-commission-meeting/2023-04-11/
CATEGORIES:CIty Event,General
END:VEVENT
BEGIN:VEVENT
DTSTART;TZID=America/Chicago:20230401T100000
DTEND;TZID=America/Chicago:20230401T190000
DTSTAMP:20260419T142138
CREATED:20230329T013612Z
LAST-MODIFIED:20240829T194127Z
UID:10000080-1680343200-1680375600@nlr.ar.gov
SUMMARY:Funland Opens for the Season
DESCRIPTION:
URL:https://nlr.ar.gov/event/funland-opens-for-the-season/
CATEGORIES:CIty Event
END:VEVENT
BEGIN:VEVENT
DTSTART;TZID=America/Chicago:20230401T100000
DTEND;TZID=America/Chicago:20230401T120000
DTSTAMP:20260419T142138
CREATED:20230329T013505Z
LAST-MODIFIED:20240829T195833Z
UID:10000078-1680343200-1680350400@nlr.ar.gov
SUMMARY:Jr. NBA Skills Challenge
DESCRIPTION:Showcase your BASKETBALL SKILLS by participating in the Jr NBA Skills Challenge!Participation is FREE!Participants will compete in each of the five standardized skills to earn a total cumulative time resulting in a final score: \n\n\n\n\nDribbling – Challenges participants in stationary\, zig-zag\, and speed dribbling.\n\n\n\nShooting – Challenges participants to make jump shots from the elbow.\n\n\n\nLay-Up – Challenges participants to make lay-up shots.\n\n\n\nPassing – Challenge participants to accurately pass towards a wall target and receive a pass.\n\n\n\nDefense and Bonus Free Throw – Challenges participants in defensive lane slides\, sprinting\, and free throw shooting.\n\n\n\n\nDates and Locations: \n\n\n\n\nApril 1\, 2023 @ 10:00 am – CANCELLED\n\nNorth Heights Community Center\n\n\n\n4801 Allen Street\n\n\n\nPre-Register here\n\n\n\n\n\nApril 29\, 2023 @ 10:00 am\n\nRose City Community Center\n\n\n\n400 Rose Lane\n\n\n\nPre-Register here
URL:https://nlr.ar.gov/event/jr-nba-skills-challenge/2023-04-01/
CATEGORIES:CIty Event,Parks and Recreation
ATTACH;FMTTYPE=image/jpeg:https://nlr.ar.gov/wp-content/uploads/2023/03/Jr-NBA-Site-Header-jpg.webp
END:VEVENT
BEGIN:VEVENT
DTSTART;TZID=America/Chicago:20230331T130000
DTEND;TZID=America/Chicago:20230331T140000
DTSTAMP:20260419T142138
CREATED:20230329T012912Z
LAST-MODIFIED:20240829T195833Z
UID:10000077-1680267600-1680271200@nlr.ar.gov
SUMMARY:Funland Open House
DESCRIPTION:
URL:https://nlr.ar.gov/event/funland-open-house/
CATEGORIES:CIty Event,Parks and Recreation
ATTACH;FMTTYPE=image/png:https://nlr.ar.gov/wp-content/uploads/2023/03/Funland-Open-House-20230331.png
END:VEVENT
BEGIN:VEVENT
DTSTART;TZID=America/Chicago:20230320T170000
DTEND;TZID=America/Chicago:20230320T173000
DTSTAMP:20260419T142138
CREATED:20231213T175104Z
LAST-MODIFIED:20240829T195833Z
UID:10000322-1679331600-1679333400@nlr.ar.gov
SUMMARY:Parks and Recreation Commission Meeting
DESCRIPTION:The Parks and Recreation Commission meets the third Monday (the following Tuesday if Monday is a holiday) of the month. \n\n\n\nA listing of the scheduled meeting dates\, locations\, and members can be found here.
URL:https://nlr.ar.gov/event/parks-and-recreation-commission-meeting-3/2023-03-20/
LOCATION:North Little Rock Community Center\, 2700 Willow Street\, North Little Rock\, Arkansas\, 72114-2228\, United States
CATEGORIES:CIty Event,Parks and Recreation
END:VEVENT
BEGIN:VEVENT
DTSTART;TZID=America/Chicago:20230314T160000
DTEND;TZID=America/Chicago:20230314T170000
DTSTAMP:20260419T142138
CREATED:20230101T210633Z
LAST-MODIFIED:20240829T194318Z
UID:10000055-1678809600-1678813200@nlr.ar.gov
SUMMARY:Planning Commission Meeting
DESCRIPTION:
URL:https://nlr.ar.gov/event/planning-commission-meeting/2023-03-14/
CATEGORIES:CIty Event,General
END:VEVENT
BEGIN:VEVENT
DTSTART;TZID=America/Chicago:20230220T170000
DTEND;TZID=America/Chicago:20230220T173000
DTSTAMP:20260419T142138
CREATED:20231213T175104Z
LAST-MODIFIED:20240829T195833Z
UID:10000321-1676912400-1676914200@nlr.ar.gov
SUMMARY:Parks and Recreation Commission Meeting
DESCRIPTION:The Parks and Recreation Commission meets the third Monday (the following Tuesday if Monday is a holiday) of the month. \n\n\n\nA listing of the scheduled meeting dates\, locations\, and members can be found here.
URL:https://nlr.ar.gov/event/parks-and-recreation-commission-meeting-3/2023-02-20/
LOCATION:North Little Rock Community Center\, 2700 Willow Street\, North Little Rock\, Arkansas\, 72114-2228\, United States
CATEGORIES:CIty Event,Parks and Recreation
END:VEVENT
BEGIN:VEVENT
DTSTART;TZID=America/Chicago:20230214T160000
DTEND;TZID=America/Chicago:20230214T170000
DTSTAMP:20260419T142138
CREATED:20230101T210633Z
LAST-MODIFIED:20240829T194318Z
UID:10000054-1676390400-1676394000@nlr.ar.gov
SUMMARY:Planning Commission Meeting
DESCRIPTION:
URL:https://nlr.ar.gov/event/planning-commission-meeting/2023-02-14/
CATEGORIES:CIty Event,General
END:VEVENT
BEGIN:VEVENT
DTSTART;TZID=America/Chicago:20230116T170000
DTEND;TZID=America/Chicago:20230116T173000
DTSTAMP:20260419T142138
CREATED:20231213T175104Z
LAST-MODIFIED:20240829T195833Z
UID:10000320-1673888400-1673890200@nlr.ar.gov
SUMMARY:Parks and Recreation Commission Meeting
DESCRIPTION:The Parks and Recreation Commission meets the third Monday (the following Tuesday if Monday is a holiday) of the month. \n\n\n\nA listing of the scheduled meeting dates\, locations\, and members can be found here.
URL:https://nlr.ar.gov/event/parks-and-recreation-commission-meeting-3/2023-01-16/
LOCATION:North Little Rock Community Center\, 2700 Willow Street\, North Little Rock\, Arkansas\, 72114-2228\, United States
CATEGORIES:CIty Event,Parks and Recreation
END:VEVENT
BEGIN:VEVENT
DTSTART;TZID=America/Chicago:20230116T000000
DTEND;TZID=America/Chicago:20230116T235959
DTSTAMP:20260419T142139
CREATED:20230109T194859Z
LAST-MODIFIED:20230109T194859Z
UID:10000001-1673827200-1673913599@nlr.ar.gov
SUMMARY:City Closed - Martin Luther King Jr. Day
DESCRIPTION:
URL:https://nlr.ar.gov/event/city-closed-martin-luther-king-jr-day/
CATEGORIES:Holiday
END:VEVENT
BEGIN:VEVENT
DTSTART;TZID=America/Chicago:20230110T160000
DTEND;TZID=America/Chicago:20230110T170000
DTSTAMP:20260419T142139
CREATED:20230101T210633Z
LAST-MODIFIED:20240829T194318Z
UID:10000005-1673366400-1673370000@nlr.ar.gov
SUMMARY:Planning Commission Meeting
DESCRIPTION:
URL:https://nlr.ar.gov/event/planning-commission-meeting/2023-01-10/
CATEGORIES:CIty Event,General
END:VEVENT
BEGIN:VEVENT
DTSTART;TZID=America/Chicago:20230103T100000
DTEND;TZID=America/Chicago:20230103T103000
DTSTAMP:20260419T142139
CREATED:20230101T205947Z
LAST-MODIFIED:20230111T210156Z
UID:10000002-1672740000-1672741800@nlr.ar.gov
SUMMARY:Council Member Swearing In
DESCRIPTION:
URL:https://nlr.ar.gov/event/council-member-swearing-in/
LOCATION:North Little Rock City Hall\, 300 Main Street\, North Little Rock\, AR\, 72114\, United States
CATEGORIES:City Council
ATTACH;FMTTYPE=image/jpeg:https://nlr.ar.gov/wp-content/uploads/2023/01/City-COuncil-Swearing-In-jpg.webp
END:VEVENT
BEGIN:VEVENT
DTSTART;TZID=America/Chicago:20230102T000000
DTEND;TZID=America/Chicago:20230102T235959
DTSTAMP:20260419T142139
CREATED:20230101T210307Z
LAST-MODIFIED:20230111T210332Z
UID:10000003-1672617600-1672703999@nlr.ar.gov
SUMMARY:City Closed - New Year's Day
DESCRIPTION:
URL:https://nlr.ar.gov/event/city-closed-new-years-day/
CATEGORIES:Holiday
END:VEVENT
END:VCALENDAR