BEGIN:VCALENDAR
VERSION:2.0
PRODID:-//City of North Little Rock - ECPv6.15.17.1//NONSGML v1.0//EN
CALSCALE:GREGORIAN
METHOD:PUBLISH
X-ORIGINAL-URL:https://nlr.ar.gov
X-WR-CALDESC:Events for City of North Little Rock
REFRESH-INTERVAL;VALUE=DURATION:PT1H
X-Robots-Tag:noindex
X-PUBLISHED-TTL:PT1H
BEGIN:VTIMEZONE
TZID:America/Chicago
BEGIN:DAYLIGHT
TZOFFSETFROM:-0600
TZOFFSETTO:-0500
TZNAME:CDT
DTSTART:20230312T080000
END:DAYLIGHT
BEGIN:STANDARD
TZOFFSETFROM:-0500
TZOFFSETTO:-0600
TZNAME:CST
DTSTART:20231105T070000
END:STANDARD
BEGIN:DAYLIGHT
TZOFFSETFROM:-0600
TZOFFSETTO:-0500
TZNAME:CDT
DTSTART:20240310T080000
END:DAYLIGHT
BEGIN:STANDARD
TZOFFSETFROM:-0500
TZOFFSETTO:-0600
TZNAME:CST
DTSTART:20241103T070000
END:STANDARD
BEGIN:DAYLIGHT
TZOFFSETFROM:-0600
TZOFFSETTO:-0500
TZNAME:CDT
DTSTART:20250309T080000
END:DAYLIGHT
BEGIN:STANDARD
TZOFFSETFROM:-0500
TZOFFSETTO:-0600
TZNAME:CST
DTSTART:20251102T070000
END:STANDARD
BEGIN:DAYLIGHT
TZOFFSETFROM:-0600
TZOFFSETTO:-0500
TZNAME:CDT
DTSTART:20260308T080000
END:DAYLIGHT
BEGIN:STANDARD
TZOFFSETFROM:-0500
TZOFFSETTO:-0600
TZNAME:CST
DTSTART:20261101T070000
END:STANDARD
END:VTIMEZONE
BEGIN:VEVENT
DTSTART;TZID=America/Chicago:20240628T080000
DTEND;TZID=America/Chicago:20240628T170000
DTSTAMP:20260420T041416
CREATED:20240529T211522Z
LAST-MODIFIED:20240829T195319Z
UID:10000385-1719561600-1719594000@nlr.ar.gov
SUMMARY:Boots and Badges Blood Drive
DESCRIPTION:The NLR Boots and Badges Blood Drive will be held on Friday\, June 28\, 2024\, from 8 am – 5 pm at the NLR Justice Center (#1 Justice Center Drive). \n\n\n\nMake an appointment by calling 877-340-8777 or visit obi.org.
URL:https://nlr.ar.gov/event/boots-and-badges-blood-drive/
LOCATION:AR
CATEGORIES:CIty Event,Fire Department,Police Department
ATTACH;FMTTYPE=image/jpeg:https://nlr.ar.gov/wp-content/uploads/2024/05/blood-drive-20240628-jpg.webp
END:VEVENT
BEGIN:VEVENT
DTSTART;TZID=America/Chicago:20250606T000000
DTEND;TZID=America/Chicago:20250607T235959
DTSTAMP:20260420T041416
CREATED:20250512T153243Z
LAST-MODIFIED:20250512T153245Z
UID:10000461-1749168000-1749340799@nlr.ar.gov
SUMMARY:“Kind of a Big Dill” Pickleball Tournament
DESCRIPTION:Join Us for the “Kind of a Big Dill” Pickleball Tournament – June 6-7 \n\n\n\nGet ready to serve up some fun for a great cause! We’re excited to invite you to the “Kind of a Big Dill” Pickleball Tournament\, benefiting Special Olympics Arkansas and supported by the Law Enforcement Torch Run. Whether you’re a seasoned player or new to the game\, there’s a spot for everyone. Let’s come together to support an amazing cause and enjoy a weekend of fun\, community\, and competition! \n\n\n\nRegister now by scanning the QR code in the flyer orvisit: bit.ly/42nreY1 \n\n\n\n Don’t miss out — it’s kind of a big dill!
URL:https://nlr.ar.gov/event/kind-of-a-big-dill-pickleball-tournament/
LOCATION:Burns Park Pickleball Courts\, 12 Funland Drive\, North Little Rock\, Arkansas\, 72118\, United States
CATEGORIES:CIty Event,Parks and Recreation,Police Department
ATTACH;FMTTYPE=image/jpeg:https://nlr.ar.gov/wp-content/uploads/2025/05/pickleball-tournament-big-dill-nlrpd-202506-07-jpg.webp
END:VEVENT
BEGIN:VEVENT
DTSTART;TZID=America/Chicago:20250627T080000
DTEND;TZID=America/Chicago:20250627T170000
DTSTAMP:20260420T041416
CREATED:20250625T135159Z
LAST-MODIFIED:20250625T135204Z
UID:10000467-1751011200-1751043600@nlr.ar.gov
SUMMARY:All American Blood Drive
DESCRIPTION:➡️EVENT: NLRPD – BOOTS & BADGES BLOOD DRIVE➡️WHEN: Friday\, June 27\, 2025 (8:00 am – 5:00 pm)➡️WHERE: NLR Justice Center (#1 Justice Center Drive\, NLR) COMMUNITY ROOM \n\n\n\n➡️Every successful donor will receive an All American T-shirt\, a folding camp chair\, and choice of a theme park ticket.    \n\n\n\n🩸HAVE YOU SCHEDULED YOUR APPOINTMENT?🩸➡️Although it’s not a requirement\, donors are asked to schedule their appointment by clicking the following link – https://www.yourbloodinstitute.org/donor/schedules/drive_schedule/664461
URL:https://nlr.ar.gov/event/all-american-blood-drive/
LOCATION:NLR Justice Center\, 1 Justice Center Drive\, North Little Rock\, AR\, 72114\, United States
CATEGORIES:CIty Event,Fire Department,Police Department
ATTACH;FMTTYPE=image/jpeg:https://nlr.ar.gov/wp-content/uploads/2025/06/Boots-and-Badges-Blod-Drive-20250627-jpg.webp
END:VEVENT
END:VCALENDAR