BEGIN:VCALENDAR
VERSION:2.0
PRODID:-//City of North Little Rock - ECPv6.15.17.1//NONSGML v1.0//EN
CALSCALE:GREGORIAN
METHOD:PUBLISH
X-ORIGINAL-URL:https://nlr.ar.gov
X-WR-CALDESC:Events for City of North Little Rock
REFRESH-INTERVAL;VALUE=DURATION:PT1H
X-Robots-Tag:noindex
X-PUBLISHED-TTL:PT1H
BEGIN:VTIMEZONE
TZID:America/Chicago
BEGIN:DAYLIGHT
TZOFFSETFROM:-0600
TZOFFSETTO:-0500
TZNAME:CDT
DTSTART:20230312T080000
END:DAYLIGHT
BEGIN:STANDARD
TZOFFSETFROM:-0500
TZOFFSETTO:-0600
TZNAME:CST
DTSTART:20231105T070000
END:STANDARD
BEGIN:DAYLIGHT
TZOFFSETFROM:-0600
TZOFFSETTO:-0500
TZNAME:CDT
DTSTART:20240310T080000
END:DAYLIGHT
BEGIN:STANDARD
TZOFFSETFROM:-0500
TZOFFSETTO:-0600
TZNAME:CST
DTSTART:20241103T070000
END:STANDARD
BEGIN:DAYLIGHT
TZOFFSETFROM:-0600
TZOFFSETTO:-0500
TZNAME:CDT
DTSTART:20250309T080000
END:DAYLIGHT
BEGIN:STANDARD
TZOFFSETFROM:-0500
TZOFFSETTO:-0600
TZNAME:CST
DTSTART:20251102T070000
END:STANDARD
END:VTIMEZONE
BEGIN:VEVENT
DTSTART;TZID=America/Chicago:20241219T090000
DTEND;TZID=America/Chicago:20241219T140000
DTSTAMP:20260425T202028
CREATED:20241218T212145Z
LAST-MODIFIED:20241218T212146Z
UID:10000443-1734598800-1734616800@nlr.ar.gov
SUMMARY:Christmas Bazaar at the Hays Center
DESCRIPTION:Come and join us and shop at the bazaar with all kinds of vendors!
URL:https://nlr.ar.gov/event/christmas-bazaar-at-the-hays-center/
LOCATION:Hays Senior Center\, 401 W Pershing Blvd\, North Little Rock\, Arkansas\, 72114\, United States
CATEGORIES:CIty Event,Senior Center
ATTACH;FMTTYPE=image/png:https://nlr.ar.gov/wp-content/uploads/2024/12/christmasbazaar2024b.png
END:VEVENT
END:VCALENDAR