BEGIN:VCALENDAR
VERSION:2.0
PRODID:-//City of North Little Rock - ECPv6.15.17.1//NONSGML v1.0//EN
CALSCALE:GREGORIAN
METHOD:PUBLISH
X-ORIGINAL-URL:https://nlr.ar.gov
X-WR-CALDESC:Events for City of North Little Rock
REFRESH-INTERVAL;VALUE=DURATION:PT1H
X-Robots-Tag:noindex
X-PUBLISHED-TTL:PT1H
BEGIN:VTIMEZONE
TZID:America/Chicago
BEGIN:DAYLIGHT
TZOFFSETFROM:-0600
TZOFFSETTO:-0500
TZNAME:CDT
DTSTART:20220313T080000
END:DAYLIGHT
BEGIN:STANDARD
TZOFFSETFROM:-0500
TZOFFSETTO:-0600
TZNAME:CST
DTSTART:20221106T070000
END:STANDARD
BEGIN:DAYLIGHT
TZOFFSETFROM:-0600
TZOFFSETTO:-0500
TZNAME:CDT
DTSTART:20230312T080000
END:DAYLIGHT
BEGIN:STANDARD
TZOFFSETFROM:-0500
TZOFFSETTO:-0600
TZNAME:CST
DTSTART:20231105T070000
END:STANDARD
BEGIN:DAYLIGHT
TZOFFSETFROM:-0600
TZOFFSETTO:-0500
TZNAME:CDT
DTSTART:20240310T080000
END:DAYLIGHT
BEGIN:STANDARD
TZOFFSETFROM:-0500
TZOFFSETTO:-0600
TZNAME:CST
DTSTART:20241103T070000
END:STANDARD
END:VTIMEZONE
BEGIN:VEVENT
DTSTART;TZID=America/Chicago:20231008T000000
DTEND;TZID=America/Chicago:20231022T235959
DTSTAMP:20260421T052929
CREATED:20230915T143152Z
LAST-MODIFIED:20231002T152323Z
UID:10000252-1696723200-1698019199@nlr.ar.gov
SUMMARY:Auction: City of NLR Property
DESCRIPTION:North Little Rock\, Arkansas (Monday\, October 2\, 2023)… Miscellaneous items\, assorted office furniture and materials (walls\, light fixtures\, and much more) from the former City Services building in the City of North Little Rock will be available to purchase via an online auction beginning Sunday\, October 8\, 2023 for two weeks until Sunday\, October 22\, 2023. \n\n\n\nThe website to view the items will be www.unitedsurplusauctions.com (bidaaa.com). A direct link will be available under the Open Bid Opportunities tab beginning October 8\, 2023. For general information please contact the City of North Little Rock at 501-975-8881.
URL:https://nlr.ar.gov/event/auction-city-of-nlr-property/
LOCATION:Arkansas
CATEGORIES:CIty Event
ATTACH;FMTTYPE=image/jpeg:https://nlr.ar.gov/wp-content/uploads/2023/09/Auction-2023-jpg.webp
END:VEVENT
BEGIN:VEVENT
DTSTART;TZID=America/Chicago:20231021T090000
DTEND;TZID=America/Chicago:20231021T140000
DTSTAMP:20260421T052929
CREATED:20230928T140517Z
LAST-MODIFIED:20240829T195607Z
UID:10000262-1697878800-1697896800@nlr.ar.gov
SUMMARY:Pink Out 2023
DESCRIPTION:Pink Out 2023 Breast Cancer Awareness \n\n\n\nActivities include: \n\n\n\n\nAwareness Spirit Walk\n\n\n\nOld School Basketball Game\n\n\n\nPINKED OUT! Fashion Walk\n\n\n\nHealthy Info Booths\n\n\n\nSpecial Gust Speaker – Verlancia Tucker (Founder and Executive Director\, BOHEMIA Cares)
URL:https://nlr.ar.gov/event/pink-out-2023/
LOCATION:Sherman Park Community Center\, 624 Beech Street\, North Little Rock\, AR\, 72117\, United States
CATEGORIES:CIty Event,Parks and Recreation
ATTACH;FMTTYPE=image/jpeg:https://nlr.ar.gov/wp-content/uploads/2023/09/SPCC-Pink-Out-2023-1-jpg.webp
END:VEVENT
END:VCALENDAR